BEGIN:VCALENDAR
VERSION:2.0
PRODID:-//Museo del Automóvil y la Moda de Málaga - ECPv6.15.15//NONSGML v1.0//EN
CALSCALE:GREGORIAN
METHOD:PUBLISH
X-WR-CALNAME:Museo del Automóvil y la Moda de Málaga
X-ORIGINAL-URL:https://museoautomovilmoda.com
X-WR-CALDESC:Eventos para Museo del Automóvil y la Moda de Málaga
REFRESH-INTERVAL;VALUE=DURATION:PT1H
X-Robots-Tag:noindex
X-PUBLISHED-TTL:PT1H
BEGIN:VTIMEZONE
TZID:Europe/Madrid
BEGIN:DAYLIGHT
TZOFFSETFROM:+0100
TZOFFSETTO:+0200
TZNAME:CEST
DTSTART:20220327T010000
END:DAYLIGHT
BEGIN:STANDARD
TZOFFSETFROM:+0200
TZOFFSETTO:+0100
TZNAME:CET
DTSTART:20221030T010000
END:STANDARD
BEGIN:DAYLIGHT
TZOFFSETFROM:+0100
TZOFFSETTO:+0200
TZNAME:CEST
DTSTART:20230326T010000
END:DAYLIGHT
BEGIN:STANDARD
TZOFFSETFROM:+0200
TZOFFSETTO:+0100
TZNAME:CET
DTSTART:20231029T010000
END:STANDARD
BEGIN:DAYLIGHT
TZOFFSETFROM:+0100
TZOFFSETTO:+0200
TZNAME:CEST
DTSTART:20240331T010000
END:DAYLIGHT
BEGIN:STANDARD
TZOFFSETFROM:+0200
TZOFFSETTO:+0100
TZNAME:CET
DTSTART:20241027T010000
END:STANDARD
END:VTIMEZONE
BEGIN:VEVENT
DTSTART;TZID=Europe/Madrid:20231006T193000
DTEND;TZID=Europe/Madrid:20231006T210000
DTSTAMP:20260425T151147
CREATED:20230612T092648Z
LAST-MODIFIED:20240305T083940Z
UID:212-1696620600-1696626000@museoautomovilmoda.com
SUMMARY:Visita Teatralizada (Primer pase)
DESCRIPTION:Nos aliamos con Historia Viva Málaga para hacer una experiencia inmersiva en la historia del vehículo\, de la moda y de la evolución de la sociedad desde la Belle Époque. Una actividad para toda la familia donde el humor y las curiosidades sobre arte e historia están presente de principio a fin. \n\n\n\nPuedes comprar tus entradas en este enlace.
URL:https://museoautomovilmoda.com/actividad/visita-teatralizada/
ATTACH;FMTTYPE=image/jpeg:https://museoautomovilmoda.com/wp-content/uploads/2023/06/Visitas-teatralizadas-mam.jpg
END:VEVENT
BEGIN:VEVENT
DTSTART;TZID=Europe/Madrid:20231006T213000
DTEND;TZID=Europe/Madrid:20231006T230000
DTSTAMP:20260425T151147
CREATED:20231003T095224Z
LAST-MODIFIED:20240305T083940Z
UID:25613-1696627800-1696633200@museoautomovilmoda.com
SUMMARY:Visita Teatralizada (Segundo pase)
DESCRIPTION:Nos aliamos con Historia Viva Málaga para hacer una experiencia inmersiva en la historia del vehículo\, de la moda y de la evolución de la sociedad desde la Belle Époque. Una actividad para toda la familia donde el humor y las curiosidades sobre arte e historia están presente de principio a fin. \n\n\n\nPuedes comprar tus entradas en este enlace.
URL:https://museoautomovilmoda.com/actividad/visita-teatralizada-segundo-pase/
ATTACH;FMTTYPE=image/jpeg:https://museoautomovilmoda.com/wp-content/uploads/2023/06/Visitas-teatralizadas-mam.jpg
END:VEVENT
BEGIN:VEVENT
DTSTART;TZID=Europe/Madrid:20231007T110000
DTEND;TZID=Europe/Madrid:20231007T140000
DTSTAMP:20260425T151147
CREATED:20230612T091906Z
LAST-MODIFIED:20240305T083940Z
UID:210-1696676400-1696687200@museoautomovilmoda.com
SUMMARY:Sábados Creativos (Taller de Pixel Art)
DESCRIPTION:Todos los sábados\, los espacios expositivos y educativos del Museo se convierten en punto de encuentro para los mas pequeños. ¡Cada sábado una actividad distinta! \n\n\n\nTodos los talleres de estos ‘Sábados Creativos’ están dirigidos a niños y niñas de todas las edades. En horario de 11 a 14 horas\, los participantes realizarán actividades relacionadas con una temática concreta: desde robótica a arquitectura\, pasando por edición de videojuegos\, cocina y arqueología.  \n\n\n\nEn cada uno de los talleres se realizarán distintas actividades diseñadas específicamente para despertar la curiosidad intelectual de los pequeños y favorecer el desarrollo de su creatividad. \n\n\n\nActividades\n\n\n\nSÁBADO 7 DE OCTUBRE: Taller de Pixel Art. Nivel básico (6 a 11 años) y nivel avanzado (12 a 16 años). \n\n\n\nSÁBADO 14 DE OCTUBRE: Taller de Robótica y Programación. Nivel básico (6 a 11 años) y nivel avanzado (12 a 16 años). \n\n\n\nSÁBADO 21 DE OCTUBRE: Taller de Egiptología. Nivel básico (4 a 8 años) y nivel avanzado (8 a 12 años). \n\n\n\nSÁBADO 28 DE OCTUBRE: Taller de Halloween. Nivel básico (4 a 8 años) y nivel avanzado (8 a 12 años). \n\n\n\nSÁBADO 4 DE NOVIEMBRE: Taller de Programación para videojuegos con Roblox. Nivel básico (6 a 11 años) y nivel avanzado (12 a 16 años). \n\n\n\nSÁBADO 11 DE NOVIEMBRE: Taller de Arquitectura. Nivel básico (4 a 8 años) y nivel avanzado (8 a 12 años). \n\n\n\nSÁBADO 18 DE NOVIEMBRE: Taller de Ilustración y Artes plásticas. Nivel básico (4 a 8 años) y nivel avanzado (8 a 12 años). \n\n\n\nSÁBADO 25 DE NOVIEMBRE: Taller Ciencia Creativa. Nivel básico (4 a 8 años) y nivel avanzado (8 a 12 años). \n\n\n\nSÁBADO 2 DE DICIEMBRE: Taller de Egiptología. Nivel básico (4 a 8 años) y nivel avanzado (8 a 12 años). \n\n\n\nSÁBADO 9 DE DICIEMBRE: Taller de Robótica y Programación. Nivel básico (6 a 11 años) y nivel avanzado (12 a 16 años). \n\n\n\nSÁBADO 16 DE DICIEMBRE: Taller de Ilustración y Artes plásticas. Nivel básico (4 a 8 años) y nivel avanzado (8 a 12 años). \n\n\n\nSÁBADO 23 DE DICIEMBRE: Taller de Adornos Navideños. Nivel básico (4 a 8 años) y nivel avanzado (8 a 12 años). \n\n\n\n \n\n\n\nDuración\n\n\n\n– 3 horas \n\n\n\nActividad sujeta a cancelación en caso de no cumplir con el mínimo requerido de asistentes.
URL:https://museoautomovilmoda.com/actividad/sabados-creativos-taller-pixel-art/
ATTACH;FMTTYPE=image/jpeg:https://museoautomovilmoda.com/wp-content/uploads/2023/06/CARTEL-MAM-PIXEL-ART-7-10.jpg
END:VEVENT
BEGIN:VEVENT
DTSTART;TZID=Europe/Madrid:20231008T123000
DTEND;TZID=Europe/Madrid:20231008T130000
DTSTAMP:20260425T151147
CREATED:20230612T081512Z
LAST-MODIFIED:20240305T083940Z
UID:148-1696768200-1696770000@museoautomovilmoda.com
SUMMARY:1\, 2\, 3 ¡Arrancamos!
DESCRIPTION:A las 12:30 de cada domingo se realizará la actividad “1\, 2\, 3 ¡Arrancamos!”\, en la que se arrancarán los motores de tres vehículos de la colección y se resolverá cualquier duda sobre estos modelos.
URL:https://museoautomovilmoda.com/actividad/1-2-3-arrancamos/
ATTACH;FMTTYPE=image/jpeg:https://museoautomovilmoda.com/wp-content/uploads/2023/06/1-2-3-arrancamos.jpg
END:VEVENT
BEGIN:VEVENT
DTSTART;TZID=Europe/Madrid:20231014T110000
DTEND;TZID=Europe/Madrid:20231014T140000
DTSTAMP:20260425T151147
CREATED:20231002T114633Z
LAST-MODIFIED:20240305T083940Z
UID:25534-1697281200-1697292000@museoautomovilmoda.com
SUMMARY:Sábados Creativos (Taller de Robótica y Programación)
DESCRIPTION:Todos los sábados\, los espacios expositivos y educativos del Museo se convierten en punto de encuentro para los mas pequeños. ¡Cada sábado una actividad distinta! \n\n\n\nTodos los talleres de estos ‘Sábados Creativos’ están dirigidos a niños y niñas de todas las edades. En horario de 11 a 14 horas\, los participantes realizarán actividades relacionadas con una temática concreta: desde robótica a arquitectura\, pasando por edición de videojuegos\, cocina y arqueología.  \n\n\n\nEn cada uno de los talleres se realizarán distintas actividades diseñadas específicamente para despertar la curiosidad intelectual de los pequeños y favorecer el desarrollo de su creatividad. \n\n\n\nActividades\n\n\n\nSÁBADO 7 DE OCTUBRE: Taller de Pixel Art. Nivel básico (6 a 11 años) y nivel avanzado (12 a 16 años). \n\n\n\nSÁBADO 14 DE OCTUBRE: Taller de Robótica y Programación. Nivel básico (6 a 11 años) y nivel avanzado (12 a 16 años). \n\n\n\nSÁBADO 21 DE OCTUBRE: Taller de Egiptología. Nivel básico (4 a 8 años) y nivel avanzado (8 a 12 años). \n\n\n\nSÁBADO 28 DE OCTUBRE: Taller de Halloween. Nivel básico (4 a 8 años) y nivel avanzado (8 a 12 años). \n\n\n\nSÁBADO 4 DE NOVIEMBRE: Taller de Programación para videojuegos con Roblox. Nivel básico (6 a 11 años) y nivel avanzado (12 a 16 años). \n\n\n\nSÁBADO 11 DE NOVIEMBRE: Taller de Arquitectura. Nivel básico (4 a 8 años) y nivel avanzado (8 a 12 años). \n\n\n\nSÁBADO 18 DE NOVIEMBRE: Taller de Ilustración y Artes plásticas. Nivel básico (4 a 8 años) y nivel avanzado (8 a 12 años). \n\n\n\nSÁBADO 25 DE NOVIEMBRE: Taller Ciencia Creativa. Nivel básico (4 a 8 años) y nivel avanzado (8 a 12 años). \n\n\n\nSÁBADO 2 DE DICIEMBRE: Taller de Egiptología. Nivel básico (4 a 8 años) y nivel avanzado (8 a 12 años). \n\n\n\nSÁBADO 9 DE DICIEMBRE: Taller de Robótica y Programación. Nivel básico (6 a 11 años) y nivel avanzado (12 a 16 años). \n\n\n\nSÁBADO 16 DE DICIEMBRE: Taller de Ilustración y Artes plásticas. Nivel básico (4 a 8 años) y nivel avanzado (8 a 12 años). \n\n\n\nSÁBADO 23 DE DICIEMBRE: Taller de Adornos Navideños. Nivel básico (4 a 8 años) y nivel avanzado (8 a 12 años). \n\n\n\n \n\n\n\nDuración\n\n\n\n– 3 horas \n\n\n\nActividad sujeta a cancelación en caso de no cumplir con el mínimo requerido de asistentes.
URL:https://museoautomovilmoda.com/actividad/sabados-creativos-taller-de-robotica-y-programacion/
ATTACH;FMTTYPE=image/jpeg:https://museoautomovilmoda.com/wp-content/uploads/2023/06/CARTEL-MAM-ROBOTICA-14-10.jpg
END:VEVENT
BEGIN:VEVENT
DTSTART;TZID=Europe/Madrid:20231015T123000
DTEND;TZID=Europe/Madrid:20231015T130000
DTSTAMP:20260425T151147
CREATED:20230612T085700Z
LAST-MODIFIED:20240305T083940Z
UID:179-1697373000-1697374800@museoautomovilmoda.com
SUMMARY:1\, 2\, 3 ¡Arrancamos!
DESCRIPTION:A las 12:30 de cada domingo se realizará la actividad “1\, 2\, 3 ¡Arrancamos!”\, en la que se arrancarán los motores de tres vehículos de la colección y se resolverá cualquier duda sobre estos modelos.
URL:https://museoautomovilmoda.com/actividad/1-2-3-arrancamos-2/
ATTACH;FMTTYPE=image/jpeg:https://museoautomovilmoda.com/wp-content/uploads/2023/06/1-2-3-arrancamos.jpg
END:VEVENT
BEGIN:VEVENT
DTSTART;TZID=Europe/Madrid:20231021T110000
DTEND;TZID=Europe/Madrid:20231021T140000
DTSTAMP:20260425T151147
CREATED:20231002T114753Z
LAST-MODIFIED:20240305T083940Z
UID:25536-1697886000-1697896800@museoautomovilmoda.com
SUMMARY:Sábados creativos (Taller Arqueología y Egiptología)
DESCRIPTION:Todos los sábados\, los espacios expositivos y educativos del Museo se convierten en punto de encuentro para los mas pequeños. ¡Cada sábado una actividad distinta! \n\n\n\nTodos los talleres de estos ‘Sábados Creativos’ están dirigidos a niños y niñas de todas las edades. En horario de 11 a 14 horas\, los participantes realizarán actividades relacionadas con una temática concreta: desde robótica a arquitectura\, pasando por edición de videojuegos\, cocina y arqueología.  \n\n\n\nEn cada uno de los talleres se realizarán distintas actividades diseñadas específicamente para despertar la curiosidad intelectual de los pequeños y favorecer el desarrollo de su creatividad. \n\n\n\nActividades\n\n\n\nSÁBADO 7 DE OCTUBRE: Taller de Pixel Art. Nivel básico (6 a 11 años) y nivel avanzado (12 a 16 años). \n\n\n\nSÁBADO 14 DE OCTUBRE: Taller de Robótica y Programación. Nivel básico (6 a 11 años) y nivel avanzado (12 a 16 años). \n\n\n\nSÁBADO 21 DE OCTUBRE: Taller de Egiptología. Nivel básico (4 a 8 años) y nivel avanzado (8 a 12 años). \n\n\n\nSÁBADO 28 DE OCTUBRE: Taller de Halloween. Nivel básico (4 a 8 años) y nivel avanzado (8 a 12 años). \n\n\n\nSÁBADO 4 DE NOVIEMBRE: Taller de Programación para videojuegos con Roblox. Nivel básico (6 a 11 años) y nivel avanzado (12 a 16 años). \n\n\n\nSÁBADO 11 DE NOVIEMBRE: Taller de Arquitectura. Nivel básico (4 a 8 años) y nivel avanzado (8 a 12 años). \n\n\n\nSÁBADO 18 DE NOVIEMBRE: Taller de Ilustración y Artes plásticas. Nivel básico (4 a 8 años) y nivel avanzado (8 a 12 años). \n\n\n\nSÁBADO 25 DE NOVIEMBRE: Taller Ciencia Creativa. Nivel básico (4 a 8 años) y nivel avanzado (8 a 12 años). \n\n\n\nSÁBADO 2 DE DICIEMBRE: Taller de Egiptología. Nivel básico (4 a 8 años) y nivel avanzado (8 a 12 años). \n\n\n\nSÁBADO 9 DE DICIEMBRE: Taller de Robótica y Programación. Nivel básico (6 a 11 años) y nivel avanzado (12 a 16 años). \n\n\n\nSÁBADO 16 DE DICIEMBRE: Taller de Ilustración y Artes plásticas. Nivel básico (4 a 8 años) y nivel avanzado (8 a 12 años). \n\n\n\nSÁBADO 23 DE DICIEMBRE: Taller de Adornos Navideños. Nivel básico (4 a 8 años) y nivel avanzado (8 a 12 años). \n\n\n\n \n\n\n\nDuración\n\n\n\n– 3 horas \n\n\n\nActividad sujeta a cancelación en caso de no cumplir con el mínimo requerido de asistentes.
URL:https://museoautomovilmoda.com/actividad/sabados-creativos-taller-arqueologia-y-egiptologia/
ATTACH;FMTTYPE=image/jpeg:https://museoautomovilmoda.com/wp-content/uploads/2023/06/CARTEL-MAM-EGIPTOLOGIA-21-10.jpg
END:VEVENT
BEGIN:VEVENT
DTSTART;TZID=Europe/Madrid:20231022T123000
DTEND;TZID=Europe/Madrid:20231022T130000
DTSTAMP:20260425T151147
CREATED:20230612T085712Z
LAST-MODIFIED:20240305T083923Z
UID:180-1697977800-1697979600@museoautomovilmoda.com
SUMMARY:1\, 2\, 3 ¡Arrancamos!
DESCRIPTION:A las 12:30 de cada domingo se realizará la actividad “1\, 2\, 3 ¡Arrancamos!”\, en la que se arrancarán los motores de tres vehículos de la colección y se resolverá cualquier duda sobre estos modelos.
URL:https://museoautomovilmoda.com/actividad/1-2-3-arrancamos-3/
ATTACH;FMTTYPE=image/jpeg:https://museoautomovilmoda.com/wp-content/uploads/2023/06/1-2-3-arrancamos.jpg
END:VEVENT
BEGIN:VEVENT
DTSTART;TZID=Europe/Madrid:20231028T110000
DTEND;TZID=Europe/Madrid:20231028T140000
DTSTAMP:20260425T151147
CREATED:20231002T115030Z
LAST-MODIFIED:20240305T083923Z
UID:25538-1698490800-1698501600@museoautomovilmoda.com
SUMMARY:Sábados Creativos (Taller Halloween)
DESCRIPTION:Todos los sábados\, los espacios expositivos y educativos del Museo se convierten en punto de encuentro para los mas pequeños. ¡Cada sábado una actividad distinta! \n\n\n\nTodos los talleres de estos ‘Sábados Creativos’ están dirigidos a niños y niñas de todas las edades. En horario de 11 a 14 horas\, los participantes realizarán actividades relacionadas con una temática concreta: desde robótica a arquitectura\, pasando por edición de videojuegos\, cocina y arqueología.  \n\n\n\nEn cada uno de los talleres se realizarán distintas actividades diseñadas específicamente para despertar la curiosidad intelectual de los pequeños y favorecer el desarrollo de su creatividad. \n\n\n\nActividades\n\n\n\nSÁBADO 7 DE OCTUBRE: Taller de Pixel Art. Nivel básico (6 a 11 años) y nivel avanzado (12 a 16 años). \n\n\n\nSÁBADO 14 DE OCTUBRE: Taller de Robótica y Programación. Nivel básico (6 a 11 años) y nivel avanzado (12 a 16 años). \n\n\n\nSÁBADO 21 DE OCTUBRE: Taller de Egiptología. Nivel básico (4 a 8 años) y nivel avanzado (8 a 12 años). \n\n\n\nSÁBADO 28 DE OCTUBRE: Taller de Halloween. Nivel básico (4 a 8 años) y nivel avanzado (8 a 12 años). \n\n\n\nSÁBADO 4 DE NOVIEMBRE: Taller de Programación para videojuegos con Roblox. Nivel básico (6 a 11 años) y nivel avanzado (12 a 16 años). \n\n\n\nSÁBADO 11 DE NOVIEMBRE: Taller de Arquitectura. Nivel básico (4 a 8 años) y nivel avanzado (8 a 12 años). \n\n\n\nSÁBADO 18 DE NOVIEMBRE: Taller de Ilustración y Artes plásticas. Nivel básico (4 a 8 años) y nivel avanzado (8 a 12 años). \n\n\n\nSÁBADO 25 DE NOVIEMBRE: Taller Ciencia Creativa. Nivel básico (4 a 8 años) y nivel avanzado (8 a 12 años). \n\n\n\nSÁBADO 2 DE DICIEMBRE: Taller de Egiptología. Nivel básico (4 a 8 años) y nivel avanzado (8 a 12 años). \n\n\n\nSÁBADO 9 DE DICIEMBRE: Taller de Robótica y Programación. Nivel básico (6 a 11 años) y nivel avanzado (12 a 16 años). \n\n\n\nSÁBADO 16 DE DICIEMBRE: Taller de Ilustración y Artes plásticas. Nivel básico (4 a 8 años) y nivel avanzado (8 a 12 años). \n\n\n\nSÁBADO 23 DE DICIEMBRE: Taller de Adornos Navideños. Nivel básico (4 a 8 años) y nivel avanzado (8 a 12 años). \n\n\n\n \n\n\n\nDuración\n\n\n\n– 3 horas \n\n\n\nActividad sujeta a cancelación en caso de no cumplir con el mínimo requerido de asistentes.
URL:https://museoautomovilmoda.com/actividad/sabados-creativos-taller-halloween/
ATTACH;FMTTYPE=image/jpeg:https://museoautomovilmoda.com/wp-content/uploads/2023/06/CARTEL-MAM-HALLOWEEN-28-10.jpg
END:VEVENT
BEGIN:VEVENT
DTSTART;TZID=Europe/Madrid:20231029T123000
DTEND;TZID=Europe/Madrid:20231029T130000
DTSTAMP:20260425T151147
CREATED:20230612T085718Z
LAST-MODIFIED:20240305T083923Z
UID:181-1698582600-1698584400@museoautomovilmoda.com
SUMMARY:1\, 2\, 3 ¡Arrancamos!
DESCRIPTION:A las 12:30 de cada domingo se realizará la actividad “1\, 2\, 3 ¡Arrancamos!”\, en la que se arrancarán los motores de tres vehículos de la colección y se resolverá cualquier duda sobre estos modelos.
URL:https://museoautomovilmoda.com/actividad/1-2-3-arrancamos-4/
ATTACH;FMTTYPE=image/jpeg:https://museoautomovilmoda.com/wp-content/uploads/2023/06/1-2-3-arrancamos.jpg
END:VEVENT
END:VCALENDAR