BEGIN:VCALENDAR
VERSION:2.0
PRODID:-//Museo del Automóvil y la Moda de Málaga - ECPv6.15.15//NONSGML v1.0//EN
CALSCALE:GREGORIAN
METHOD:PUBLISH
X-WR-CALNAME:Museo del Automóvil y la Moda de Málaga
X-ORIGINAL-URL:https://museoautomovilmoda.com
X-WR-CALDESC:Eventos para Museo del Automóvil y la Moda de Málaga
REFRESH-INTERVAL;VALUE=DURATION:PT1H
X-Robots-Tag:noindex
X-PUBLISHED-TTL:PT1H
BEGIN:VTIMEZONE
TZID:Europe/Madrid
BEGIN:DAYLIGHT
TZOFFSETFROM:+0100
TZOFFSETTO:+0200
TZNAME:CEST
DTSTART:20230326T010000
END:DAYLIGHT
BEGIN:STANDARD
TZOFFSETFROM:+0200
TZOFFSETTO:+0100
TZNAME:CET
DTSTART:20231029T010000
END:STANDARD
BEGIN:DAYLIGHT
TZOFFSETFROM:+0100
TZOFFSETTO:+0200
TZNAME:CEST
DTSTART:20240331T010000
END:DAYLIGHT
BEGIN:STANDARD
TZOFFSETFROM:+0200
TZOFFSETTO:+0100
TZNAME:CET
DTSTART:20241027T010000
END:STANDARD
BEGIN:DAYLIGHT
TZOFFSETFROM:+0100
TZOFFSETTO:+0200
TZNAME:CEST
DTSTART:20250330T010000
END:DAYLIGHT
BEGIN:STANDARD
TZOFFSETFROM:+0200
TZOFFSETTO:+0100
TZNAME:CET
DTSTART:20251026T010000
END:STANDARD
END:VTIMEZONE
BEGIN:VEVENT
DTSTART;TZID=Europe/Madrid:20240901T123000
DTEND;TZID=Europe/Madrid:20240901T130000
DTSTAMP:20260424T224253
CREATED:20240612T080908Z
LAST-MODIFIED:20240829T073431Z
UID:33237-1725193800-1725195600@museoautomovilmoda.com
SUMMARY:1\, 2\, 3 ¡Arrancamos!
DESCRIPTION:A las 12:30 de cada domingo se realizará la actividad “1\, 2\, 3 ¡Arrancamos!”\, en la que se arrancarán los motores de tres vehículos de la colección y se resolverá cualquier duda sobre estos modelos. \n\n\n\n\ncomprar entradas
URL:https://museoautomovilmoda.com/actividad/1-2-3-arrancamos-44/
ATTACH;FMTTYPE=image/jpeg:https://museoautomovilmoda.com/wp-content/uploads/2014/10/Cadillac-Pink.jpg
END:VEVENT
BEGIN:VEVENT
DTSTART;TZID=Europe/Madrid:20240907T193000
DTEND;TZID=Europe/Madrid:20240907T213000
DTSTAMP:20260424T224253
CREATED:20240809T104138Z
LAST-MODIFIED:20240813T100205Z
UID:34660-1725737400-1725744600@museoautomovilmoda.com
SUMMARY:Visita Teatralizada
DESCRIPTION:Nos aliamos con Historia Viva Málaga para hacer una experiencia inmersiva en la historia del vehículo\, de la moda y de la evolución de la sociedad desde la Belle Époque. Una actividad para toda la familia donde el humor y las curiosidades sobre arte e historia están presente de principio a fin. \n\n\n\nLa sesión comienza a las 19:30. \n\n\n\nInformación de reservas y compra de entradas aquí.
URL:https://museoautomovilmoda.com/actividad/visita-teatralizada-2/
ATTACH;FMTTYPE=image/jpeg:https://museoautomovilmoda.com/wp-content/uploads/2023/06/Visitas-teatralizadas-mam.jpg
END:VEVENT
BEGIN:VEVENT
DTSTART;TZID=Europe/Madrid:20240922T123000
DTEND;TZID=Europe/Madrid:20240922T130000
DTSTAMP:20260424T224253
CREATED:20240802T085458Z
LAST-MODIFIED:20240829T082207Z
UID:34532-1727008200-1727010000@museoautomovilmoda.com
SUMMARY:1\, 2\, 3 ¡Arrancamos!
DESCRIPTION:A las 12:30 de cada domingo se realizará la actividad “1\, 2\, 3 ¡Arrancamos!”\, en la que se arrancarán los motores de tres vehículos de la colección y se resolverá cualquier duda sobre estos modelos. \n\n\n\n\ncomprar entradas
URL:https://museoautomovilmoda.com/actividad/1-2-3-arrancamos-47/
ATTACH;FMTTYPE=image/jpeg:https://museoautomovilmoda.com/wp-content/uploads/2017/01/1.-Lancia-Astura.jpg
END:VEVENT
BEGIN:VEVENT
DTSTART;TZID=Europe/Madrid:20240929T123000
DTEND;TZID=Europe/Madrid:20240929T130000
DTSTAMP:20260424T224253
CREATED:20240802T085646Z
LAST-MODIFIED:20240829T073401Z
UID:34536-1727613000-1727614800@museoautomovilmoda.com
SUMMARY:1\, 2\, 3 ¡Arrancamos!
DESCRIPTION:A las 12:30 de cada domingo se realizará la actividad “1\, 2\, 3 ¡Arrancamos!”\, en la que se arrancarán los motores de tres vehículos de la colección y se resolverá cualquier duda sobre estos modelos. \n\n\n\n\ncomprar entradas
URL:https://museoautomovilmoda.com/actividad/1-2-3-arrancamos-48/
ATTACH;FMTTYPE=image/jpeg:https://museoautomovilmoda.com/wp-content/uploads/2023/08/Aston-Martin.jpg
END:VEVENT
END:VCALENDAR