BEGIN:VCALENDAR
VERSION:2.0
PRODID:-//Museo del Automóvil y la Moda de Málaga - ECPv6.15.15//NONSGML v1.0//EN
CALSCALE:GREGORIAN
METHOD:PUBLISH
X-ORIGINAL-URL:https://museoautomovilmoda.com
X-WR-CALDESC:Eventos para Museo del Automóvil y la Moda de Málaga
REFRESH-INTERVAL;VALUE=DURATION:PT1H
X-Robots-Tag:noindex
X-PUBLISHED-TTL:PT1H
BEGIN:VTIMEZONE
TZID:Europe/Madrid
BEGIN:DAYLIGHT
TZOFFSETFROM:+0100
TZOFFSETTO:+0200
TZNAME:CEST
DTSTART:20230326T010000
END:DAYLIGHT
BEGIN:STANDARD
TZOFFSETFROM:+0200
TZOFFSETTO:+0100
TZNAME:CET
DTSTART:20231029T010000
END:STANDARD
BEGIN:DAYLIGHT
TZOFFSETFROM:+0100
TZOFFSETTO:+0200
TZNAME:CEST
DTSTART:20240331T010000
END:DAYLIGHT
BEGIN:STANDARD
TZOFFSETFROM:+0200
TZOFFSETTO:+0100
TZNAME:CET
DTSTART:20241027T010000
END:STANDARD
BEGIN:DAYLIGHT
TZOFFSETFROM:+0100
TZOFFSETTO:+0200
TZNAME:CEST
DTSTART:20250330T010000
END:DAYLIGHT
BEGIN:STANDARD
TZOFFSETFROM:+0200
TZOFFSETTO:+0100
TZNAME:CET
DTSTART:20251026T010000
END:STANDARD
END:VTIMEZONE
BEGIN:VEVENT
DTSTART;TZID=Europe/Madrid:20241201T123000
DTEND;TZID=Europe/Madrid:20241201T130000
DTSTAMP:20260424T180355
CREATED:20240802T085429Z
LAST-MODIFIED:20240829T081747Z
UID:34530-1733056200-1733058000@museoautomovilmoda.com
SUMMARY:1\, 2\, 3 ¡Arrancamos!
DESCRIPTION:A las 12:30 de cada domingo se realizará la actividad “1\, 2\, 3 ¡Arrancamos!”\, en la que se arrancarán los motores de tres vehículos de la colección y se resolverá cualquier duda sobre estos modelos. \n\n\n\n\ncomprar entradas
URL:https://museoautomovilmoda.com/actividad/1-2-3-arrancamos-45/
ATTACH;FMTTYPE=image/jpeg:https://museoautomovilmoda.com/wp-content/uploads/2023/08/Aston-Martin.jpg
END:VEVENT
BEGIN:VEVENT
DTSTART;TZID=Europe/Madrid:20241214T110000
DTEND;TZID=Europe/Madrid:20241214T140000
DTSTAMP:20260424T180355
CREATED:20240925T091119Z
LAST-MODIFIED:20241028T085353Z
UID:34839-1734174000-1734184800@museoautomovilmoda.com
SUMMARY:Sábados Creativos (Taller de Programación con Roblox)
DESCRIPTION:Todos los sábados\, los espacios expositivos y educativos del Museo se convierten en punto de encuentro para los mas pequeños. ¡Cada sábado una actividad distinta! \n\n\n\nTodos los talleres de estos ‘Sábados Creativos’ están dirigidos a niños y niñas de todas las edades. En horario de 11 a 14 horas\, los participantes realizarán actividades relacionadas con una temática concreta: desde robótica a arquitectura\, pasando por edición de videojuegos\, cocina y arqueología.  \n\n\n\nEn cada uno de los talleres se realizarán distintas actividades diseñadas específicamente para despertar la curiosidad intelectual de los pequeños y favorecer el desarrollo de su creatividad. \n\n\n\nActividades\n\n\n\nSÁBADO 5 DE OCTUBRE: Taller de Programación con Roblox (6 a 16 años). \n\n\n\nSÁBADO 19 DE OCTUBRE: Taller de Arquitectura para niños (4 a 12 años). \n\n\n\nSÁBADO 26 DE OCTUBRE: Taller de Halloween (4 a 12 años). \n\n\n\nSÁBADO 9 DE NOVIEMBRE: Taller de Ciencia Creativa (4 a 12 años). \n\n\n\nSÁBADO 16 DE NOVIEMBRE: Taller de Pixel Art para videojuegos (6 a 16 años). \n\n\n\nSÁBADO 23 DE NOVIEMBRE: Taller de Robótica Educativa (6 a 16 años). \n\n\n\nSÁBADO 30 DE NOVIEMBRE: Taller de Arquitectura para niños (4 a 12 años). \n\n\n\nSÁBADO 7 DE DICIEMBRE: Taller de Artes Plásticas (4 a 12 años). \n\n\n\nSÁBADO 14 DE DICIEMBRE: Taller de Programación con Roblox (6 a 16 años). \n\n\n\nSÁBADO 21 DE DICIEMBRE: Taller de Adornos Navideños (4 a 12 años). \n\n\n\n \n\n\n\n \n\n\n\nDuración y precio\n\n\n\n3 horas \n\n\n\n15 € \n\n\n\ncondiciones\n\n\n\n– Actividad sujeta a cancelación en caso de no cumplir con el mínimo requerido de asistentes. \n\n\n\n– El acceso al museo será 10 MINUTOS antes del inicio de la actividad \n\n\n\n– La contratación del taller solo permite el acceso a los participantes de este\, los acompañantes deberán esperar fuera del museo. Si desean acceder a las instalaciones o visitar la colección\, deberán adquirir una entrada. \n\n\n\n\nreservar plaza
URL:https://museoautomovilmoda.com/actividad/sabados-creativos-taller-de-programacion-con-roblox-6/
ATTACH;FMTTYPE=image/jpeg:https://museoautomovilmoda.com/wp-content/uploads/2024/10/CARTEL-MAM-ROBLOX-3-14-12-ok.jpg
END:VEVENT
BEGIN:VEVENT
DTSTART;TZID=Europe/Madrid:20241214T213000
DTEND;TZID=Europe/Madrid:20241214T230000
DTSTAMP:20260424T180356
CREATED:20241025T095756Z
LAST-MODIFIED:20241120T110213Z
UID:35176-1734211800-1734217200@museoautomovilmoda.com
SUMMARY:Visita Teatralizada
DESCRIPTION:Nos aliamos con Historia Viva Málaga para hacer una experiencia inmersiva en la historia del vehículo\, de la moda y de la evolución de la sociedad desde la Belle Époque. Una actividad para toda la familia donde el humor y las curiosidades sobre arte e historia están presente de principio a fin. \n\n\n\nLa sesión comienza a las 21:30. \n\n\n\nInformación de reservas y compra de entradas aquí.
URL:https://museoautomovilmoda.com/actividad/visita-teatralizada-5/
ATTACH;FMTTYPE=image/jpeg:https://museoautomovilmoda.com/wp-content/uploads/2023/06/Visitas-teatralizadas-mam.jpg
END:VEVENT
BEGIN:VEVENT
DTSTART;TZID=Europe/Madrid:20241215T123000
DTEND;TZID=Europe/Madrid:20241215T130000
DTSTAMP:20260424T180356
CREATED:20240802T085449Z
LAST-MODIFIED:20240829T081939Z
UID:34531-1734265800-1734267600@museoautomovilmoda.com
SUMMARY:1\, 2\, 3 ¡Arrancamos!
DESCRIPTION:A las 12:30 de cada domingo se realizará la actividad “1\, 2\, 3 ¡Arrancamos!”\, en la que se arrancarán los motores de tres vehículos de la colección y se resolverá cualquier duda sobre estos modelos. \n\n\n\n\ncomprar entradas
URL:https://museoautomovilmoda.com/actividad/1-2-3-arrancamos-46/
ATTACH;FMTTYPE=image/jpeg:https://museoautomovilmoda.com/wp-content/uploads/2023/08/Maga_159.jpg
END:VEVENT
BEGIN:VEVENT
DTSTART;TZID=Europe/Madrid:20241221T110000
DTEND;TZID=Europe/Madrid:20241221T140000
DTSTAMP:20260424T180356
CREATED:20240925T091138Z
LAST-MODIFIED:20241028T085413Z
UID:34841-1734778800-1734789600@museoautomovilmoda.com
SUMMARY:Sábados Creativos (Taller de Adornos Navideños)
DESCRIPTION:Todos los sábados\, los espacios expositivos y educativos del Museo se convierten en punto de encuentro para los mas pequeños. ¡Cada sábado una actividad distinta! \n\n\n\nTodos los talleres de estos ‘Sábados Creativos’ están dirigidos a niños y niñas de todas las edades. En horario de 11 a 14 horas\, los participantes realizarán actividades relacionadas con una temática concreta: desde robótica a arquitectura\, pasando por edición de videojuegos\, cocina y arqueología.  \n\n\n\nEn cada uno de los talleres se realizarán distintas actividades diseñadas específicamente para despertar la curiosidad intelectual de los pequeños y favorecer el desarrollo de su creatividad. \n\n\n\nActividades\n\n\n\nSÁBADO 5 DE OCTUBRE: Taller de Programación con Roblox (6 a 16 años). \n\n\n\nSÁBADO 19 DE OCTUBRE: Taller de Arquitectura para niños (4 a 12 años). \n\n\n\nSÁBADO 26 DE OCTUBRE: Taller de Halloween (4 a 12 años). \n\n\n\nSÁBADO 9 DE NOVIEMBRE: Taller de Ciencia Creativa (4 a 12 años). \n\n\n\nSÁBADO 16 DE NOVIEMBRE: Taller de Pixel Art para videojuegos (6 a 16 años). \n\n\n\nSÁBADO 23 DE NOVIEMBRE: Taller de Robótica Educativa (6 a 16 años). \n\n\n\nSÁBADO 30 DE NOVIEMBRE: Taller de Arquitectura para niños (4 a 12 años). \n\n\n\nSÁBADO 7 DE DICIEMBRE: Taller de Artes Plásticas (4 a 12 años). \n\n\n\nSÁBADO 14 DE DICIEMBRE: Taller de Programación con Roblox (6 a 16 años). \n\n\n\nSÁBADO 21 DE DICIEMBRE: Taller de Adornos Navideños (4 a 12 años). \n\n\n\n \n\n\n\n \n\n\n\nDuración y precio\n\n\n\n3 horas \n\n\n\n15 € \n\n\n\ncondiciones\n\n\n\n– Actividad sujeta a cancelación en caso de no cumplir con el mínimo requerido de asistentes. \n\n\n\n– El acceso al museo será 10 MINUTOS antes del inicio de la actividad \n\n\n\n– La contratación del taller solo permite el acceso a los participantes de este\, los acompañantes deberán esperar fuera del museo. Si desean acceder a las instalaciones o visitar la colección\, deberán adquirir una entrada. \n\n\n\n\nreservar plaza
URL:https://museoautomovilmoda.com/actividad/sabados-creativos-taller-de-adornos-navidenos-2/
ATTACH;FMTTYPE=image/jpeg:https://museoautomovilmoda.com/wp-content/uploads/2024/10/CARTEL-MAM-NAVIDAD-21-12-ok.jpg
END:VEVENT
BEGIN:VEVENT
DTSTART;TZID=Europe/Madrid:20241222T123000
DTEND;TZID=Europe/Madrid:20241222T130000
DTSTAMP:20260424T180356
CREATED:20240802T085651Z
LAST-MODIFIED:20240829T082439Z
UID:34537-1734870600-1734872400@museoautomovilmoda.com
SUMMARY:1\, 2\, 3 ¡Arrancamos!
DESCRIPTION:A las 12:30 de cada domingo se realizará la actividad “1\, 2\, 3 ¡Arrancamos!”\, en la que se arrancarán los motores de tres vehículos de la colección y se resolverá cualquier duda sobre estos modelos. \n\n\n\n\ncomprar entradas
URL:https://museoautomovilmoda.com/actividad/1-2-3-arrancamos-49/
ATTACH;FMTTYPE=image/jpeg:https://museoautomovilmoda.com/wp-content/uploads/2015/08/Cadillac-Pink-Museo-Automovilístico-de-Málaga.jpg
END:VEVENT
BEGIN:VEVENT
DTSTART;TZID=Europe/Madrid:20241223T100000
DTEND;TZID=Europe/Madrid:20241223T140000
DTSTAMP:20260424T180356
CREATED:20241128T110618Z
LAST-MODIFIED:20241128T110915Z
UID:35573-1734948000-1734962400@museoautomovilmoda.com
SUMMARY:Campamento de Navidad (Taller de Ciencia Creativa)
DESCRIPTION:Desde el 23 de diciembre al 3 de enero ofreceremos talleres de 4 horas de duración para niños entre 4 y 12 años con temáticas navideñas. ¡Estas fiestas la imaginación es nuestro mejor regalo! \n\n\n\nActividades\n\n\n\nLUNES 23 DE DICIEMBRE: Ciencia Creativa \n\n\n\nMARTES 24 DE DICIEMBRE: Arquitectura para niñ@s \n\n\n\nJUEVES 26 DE DICIEMBRE: Artes \n\n\n\nVIERNES 27 DE DICIEMBRE: Arqueología \n\n\n\nLUNES 30 DE DICIEMBRE: Programación de videojuegos con Minecraft \n\n\n\nMARTES 31 DE DICIEMBRE: Robótica educativa \n\n\n\nJUEVES 2 DE ENERO: Programación para videojuegos con Roblox \n\n\n\nVIERNES 3 DE ENERO: Ingeniería para niñ@s \n\n\n\n\n\n\n\nPrecio: 20€/taller \n\n\n\nActividad sujeta a cancelación en caso de no cumplir con el mínimo requerido de asistentes.
URL:https://museoautomovilmoda.com/actividad/campamento-de-navidad-taller-de-ciencia-creativa-2/
ATTACH;FMTTYPE=image/jpeg:https://museoautomovilmoda.com/wp-content/uploads/2023/12/cartel-museo-recortado.jpg
END:VEVENT
BEGIN:VEVENT
DTSTART;TZID=Europe/Madrid:20241224T100000
DTEND;TZID=Europe/Madrid:20241224T140000
DTSTAMP:20260424T180356
CREATED:20241128T110813Z
LAST-MODIFIED:20241128T110922Z
UID:35582-1735034400-1735048800@museoautomovilmoda.com
SUMMARY:Campamento de Navidad (Taller de Arquitectura para niñ@s)
DESCRIPTION:Desde el 23 de diciembre al 3 de enero ofreceremos talleres de 4 horas de duración para niños entre 4 y 12 años con temáticas navideñas. ¡Estas fiestas la imaginación es nuestro mejor regalo! \n\n\n\nActividades\n\n\n\nLUNES 23 DE DICIEMBRE: Ciencia Creativa \n\n\n\nMARTES 24 DE DICIEMBRE: Arquitectura para niñ@s \n\n\n\nJUEVES 26 DE DICIEMBRE: Artes \n\n\n\nVIERNES 27 DE DICIEMBRE: Arqueología \n\n\n\nLUNES 30 DE DICIEMBRE: Programación de videojuegos con Minecraft \n\n\n\nMARTES 31 DE DICIEMBRE: Robótica educativa \n\n\n\nJUEVES 2 DE ENERO: Programación para videojuegos con Roblox \n\n\n\nVIERNES 3 DE ENERO: Ingeniería para niñ@s \n\n\n\n\n\n\n\nPrecio: 20€/taller \n\n\n\nActividad sujeta a cancelación en caso de no cumplir con el mínimo requerido de asistentes.
URL:https://museoautomovilmoda.com/actividad/campamento-de-navidad-taller-de-arquitectura-para-nins-2/
ATTACH;FMTTYPE=image/jpeg:https://museoautomovilmoda.com/wp-content/uploads/2023/12/cartel-museo-recortado.jpg
END:VEVENT
BEGIN:VEVENT
DTSTART;TZID=Europe/Madrid:20241226T100000
DTEND;TZID=Europe/Madrid:20241226T140000
DTSTAMP:20260424T180356
CREATED:20241128T111112Z
LAST-MODIFIED:20241128T111113Z
UID:35587-1735207200-1735221600@museoautomovilmoda.com
SUMMARY:Campamento de Navidad (Taller de Artes)
DESCRIPTION:Desde el 23 de diciembre al 3 de enero ofreceremos talleres de 4 horas de duración para niños entre 4 y 12 años con temáticas navideñas. ¡Estas fiestas la imaginación es nuestro mejor regalo! \n\n\n\nActividades\n\n\n\nLUNES 23 DE DICIEMBRE: Ciencia Creativa \n\n\n\nMARTES 24 DE DICIEMBRE: Arquitectura para niñ@s \n\n\n\nJUEVES 26 DE DICIEMBRE: Artes \n\n\n\nVIERNES 27 DE DICIEMBRE: Arqueología \n\n\n\nLUNES 30 DE DICIEMBRE: Programación de videojuegos con Minecraft \n\n\n\nMARTES 31 DE DICIEMBRE: Robótica educativa \n\n\n\nJUEVES 2 DE ENERO: Programación para videojuegos con Roblox \n\n\n\nVIERNES 3 DE ENERO: Ingeniería para niñ@s \n\n\n\n\n\n\n\nPrecio: 20€/taller \n\n\n\nActividad sujeta a cancelación en caso de no cumplir con el mínimo requerido de asistentes.
URL:https://museoautomovilmoda.com/actividad/campamento-de-navidad-taller-de-artes/
ATTACH;FMTTYPE=image/jpeg:https://museoautomovilmoda.com/wp-content/uploads/2023/12/cartel-museo-recortado.jpg
END:VEVENT
BEGIN:VEVENT
DTSTART;TZID=Europe/Madrid:20241227T100000
DTEND;TZID=Europe/Madrid:20241227T140000
DTSTAMP:20260424T180356
CREATED:20241128T111209Z
LAST-MODIFIED:20241128T111211Z
UID:35589-1735293600-1735308000@museoautomovilmoda.com
SUMMARY:Campamento de Navidad (Taller de Arqueología)
DESCRIPTION:Desde el 23 de diciembre al 3 de enero ofreceremos talleres de 4 horas de duración para niños entre 4 y 12 años con temáticas navideñas. ¡Estas fiestas la imaginación es nuestro mejor regalo! \n\n\n\nActividades\n\n\n\nLUNES 23 DE DICIEMBRE: Ciencia Creativa \n\n\n\nMARTES 24 DE DICIEMBRE: Arquitectura para niñ@s \n\n\n\nJUEVES 26 DE DICIEMBRE: Artes \n\n\n\nVIERNES 27 DE DICIEMBRE: Arqueología \n\n\n\nLUNES 30 DE DICIEMBRE: Programación de videojuegos con Minecraft \n\n\n\nMARTES 31 DE DICIEMBRE: Robótica educativa \n\n\n\nJUEVES 2 DE ENERO: Programación para videojuegos con Roblox \n\n\n\nVIERNES 3 DE ENERO: Ingeniería para niñ@s \n\n\n\n\n\n\n\nPrecio: 20€/taller \n\n\n\nActividad sujeta a cancelación en caso de no cumplir con el mínimo requerido de asistentes.
URL:https://museoautomovilmoda.com/actividad/campamento-de-navidad-taller-de-arqueologia/
ATTACH;FMTTYPE=image/jpeg:https://museoautomovilmoda.com/wp-content/uploads/2023/12/cartel-museo-recortado.jpg
END:VEVENT
BEGIN:VEVENT
DTSTART;TZID=Europe/Madrid:20241230T100000
DTEND;TZID=Europe/Madrid:20241230T140000
DTSTAMP:20260424T180356
CREATED:20241128T111327Z
LAST-MODIFIED:20241128T111328Z
UID:35591-1735552800-1735567200@museoautomovilmoda.com
SUMMARY:Campamento de Navidad (Taller de Programación de videojuegos con Minecraft)
DESCRIPTION:Desde el 23 de diciembre al 3 de enero ofreceremos talleres de 4 horas de duración para niños entre 4 y 12 años con temáticas navideñas. ¡Estas fiestas la imaginación es nuestro mejor regalo! \n\n\n\nActividades\n\n\n\nLUNES 23 DE DICIEMBRE: Ciencia Creativa \n\n\n\nMARTES 24 DE DICIEMBRE: Arquitectura para niñ@s \n\n\n\nJUEVES 26 DE DICIEMBRE: Artes \n\n\n\nVIERNES 27 DE DICIEMBRE: Arqueología \n\n\n\nLUNES 30 DE DICIEMBRE: Programación de videojuegos con Minecraft \n\n\n\nMARTES 31 DE DICIEMBRE: Robótica educativa \n\n\n\nJUEVES 2 DE ENERO: Programación para videojuegos con Roblox \n\n\n\nVIERNES 3 DE ENERO: Ingeniería para niñ@s \n\n\n\n\n\n\n\nPrecio: 20€/taller \n\n\n\nActividad sujeta a cancelación en caso de no cumplir con el mínimo requerido de asistentes.
URL:https://museoautomovilmoda.com/actividad/campamento-de-navidad-taller-de-programacion-de-videojuegos-con-minecraft/
ATTACH;FMTTYPE=image/jpeg:https://museoautomovilmoda.com/wp-content/uploads/2023/12/cartel-museo-recortado.jpg
END:VEVENT
BEGIN:VEVENT
DTSTART;TZID=Europe/Madrid:20241231T100000
DTEND;TZID=Europe/Madrid:20241231T140000
DTSTAMP:20260424T180356
CREATED:20241128T111436Z
LAST-MODIFIED:20241128T111438Z
UID:35593-1735639200-1735653600@museoautomovilmoda.com
SUMMARY:Campamento de Navidad (Taller de Robótica educativa)
DESCRIPTION:Desde el 23 de diciembre al 3 de enero ofreceremos talleres de 4 horas de duración para niños entre 4 y 12 años con temáticas navideñas. ¡Estas fiestas la imaginación es nuestro mejor regalo! \n\n\n\nActividades\n\n\n\nLUNES 23 DE DICIEMBRE: Ciencia Creativa \n\n\n\nMARTES 24 DE DICIEMBRE: Arquitectura para niñ@s \n\n\n\nJUEVES 26 DE DICIEMBRE: Artes \n\n\n\nVIERNES 27 DE DICIEMBRE: Arqueología \n\n\n\nLUNES 30 DE DICIEMBRE: Programación de videojuegos con Minecraft \n\n\n\nMARTES 31 DE DICIEMBRE: Robótica educativa \n\n\n\nJUEVES 2 DE ENERO: Programación para videojuegos con Roblox \n\n\n\nVIERNES 3 DE ENERO: Ingeniería para niñ@s \n\n\n\n\n\n\n\nPrecio: 20€/taller \n\n\n\nActividad sujeta a cancelación en caso de no cumplir con el mínimo requerido de asistentes.
URL:https://museoautomovilmoda.com/actividad/campamento-de-navidad-taller-de-robotica-educativa-2/
ATTACH;FMTTYPE=image/jpeg:https://museoautomovilmoda.com/wp-content/uploads/2023/12/cartel-museo-recortado.jpg
END:VEVENT
END:VCALENDAR