BEGIN:VCALENDAR
VERSION:2.0
PRODID:-//Museo del Automóvil y la Moda de Málaga - ECPv6.15.15//NONSGML v1.0//EN
CALSCALE:GREGORIAN
METHOD:PUBLISH
X-WR-CALNAME:Museo del Automóvil y la Moda de Málaga
X-ORIGINAL-URL:https://museoautomovilmoda.com
X-WR-CALDESC:Eventos para Museo del Automóvil y la Moda de Málaga
REFRESH-INTERVAL;VALUE=DURATION:PT1H
X-Robots-Tag:noindex
X-PUBLISHED-TTL:PT1H
BEGIN:VTIMEZONE
TZID:Europe/Madrid
BEGIN:DAYLIGHT
TZOFFSETFROM:+0100
TZOFFSETTO:+0200
TZNAME:CEST
DTSTART:20240331T010000
END:DAYLIGHT
BEGIN:STANDARD
TZOFFSETFROM:+0200
TZOFFSETTO:+0100
TZNAME:CET
DTSTART:20241027T010000
END:STANDARD
BEGIN:DAYLIGHT
TZOFFSETFROM:+0100
TZOFFSETTO:+0200
TZNAME:CEST
DTSTART:20250330T010000
END:DAYLIGHT
BEGIN:STANDARD
TZOFFSETFROM:+0200
TZOFFSETTO:+0100
TZNAME:CET
DTSTART:20251026T010000
END:STANDARD
BEGIN:DAYLIGHT
TZOFFSETFROM:+0100
TZOFFSETTO:+0200
TZNAME:CEST
DTSTART:20260329T010000
END:DAYLIGHT
BEGIN:STANDARD
TZOFFSETFROM:+0200
TZOFFSETTO:+0100
TZNAME:CET
DTSTART:20261025T010000
END:STANDARD
END:VTIMEZONE
BEGIN:VEVENT
DTSTART;TZID=Europe/Madrid:20250102T100000
DTEND;TZID=Europe/Madrid:20250102T140000
DTSTAMP:20260424T163050
CREATED:20241128T111635Z
LAST-MODIFIED:20241128T111637Z
UID:35595-1735812000-1735826400@museoautomovilmoda.com
SUMMARY:Campamento de Navidad (Taller de Programación de videojuegos con Roblox)
DESCRIPTION:Desde el 23 de diciembre al 3 de enero ofreceremos talleres de 4 horas de duración para niños entre 4 y 12 años con temáticas navideñas. ¡Estas fiestas la imaginación es nuestro mejor regalo! \n\n\n\nActividades\n\n\n\nLUNES 23 DE DICIEMBRE: Ciencia Creativa \n\n\n\nMARTES 24 DE DICIEMBRE: Arquitectura para niñ@s \n\n\n\nJUEVES 26 DE DICIEMBRE: Artes \n\n\n\nVIERNES 27 DE DICIEMBRE: Arqueología \n\n\n\nLUNES 30 DE DICIEMBRE: Programación de videojuegos con Minecraft \n\n\n\nMARTES 31 DE DICIEMBRE: Robótica educativa \n\n\n\nJUEVES 2 DE ENERO: Programación para videojuegos con Roblox \n\n\n\nVIERNES 3 DE ENERO: Ingeniería para niñ@s \n\n\n\n\n\n\n\nPrecio: 20€/taller \n\n\n\nActividad sujeta a cancelación en caso de no cumplir con el mínimo requerido de asistentes.
URL:https://museoautomovilmoda.com/actividad/campamento-de-navidad-taller-de-programacion-de-videojuegos-con-roblox/
ATTACH;FMTTYPE=image/jpeg:https://museoautomovilmoda.com/wp-content/uploads/2023/12/cartel-museo-recortado.jpg
END:VEVENT
BEGIN:VEVENT
DTSTART;TZID=Europe/Madrid:20250103T100000
DTEND;TZID=Europe/Madrid:20250103T140000
DTSTAMP:20260424T163050
CREATED:20241128T111742Z
LAST-MODIFIED:20241128T111744Z
UID:35597-1735898400-1735912800@museoautomovilmoda.com
SUMMARY:Campamento de Navidad (Taller de Ingeniería para niñ@s)
DESCRIPTION:Desde el 23 de diciembre al 3 de enero ofreceremos talleres de 4 horas de duración para niños entre 4 y 12 años con temáticas navideñas. ¡Estas fiestas la imaginación es nuestro mejor regalo! \n\n\n\nActividades\n\n\n\nLUNES 23 DE DICIEMBRE: Ciencia Creativa \n\n\n\nMARTES 24 DE DICIEMBRE: Arquitectura para niñ@s \n\n\n\nJUEVES 26 DE DICIEMBRE: Artes \n\n\n\nVIERNES 27 DE DICIEMBRE: Arqueología \n\n\n\nLUNES 30 DE DICIEMBRE: Programación de videojuegos con Minecraft \n\n\n\nMARTES 31 DE DICIEMBRE: Robótica educativa \n\n\n\nJUEVES 2 DE ENERO: Programación para videojuegos con Roblox \n\n\n\nVIERNES 3 DE ENERO: Ingeniería para niñ@s \n\n\n\n\n\n\n\nPrecio: 20€/taller \n\n\n\nActividad sujeta a cancelación en caso de no cumplir con el mínimo requerido de asistentes.
URL:https://museoautomovilmoda.com/actividad/campamento-de-navidad-taller-de-ingenieria-para-nins-2/
ATTACH;FMTTYPE=image/jpeg:https://museoautomovilmoda.com/wp-content/uploads/2023/12/cartel-museo-recortado.jpg
END:VEVENT
BEGIN:VEVENT
DTSTART;TZID=Europe/Madrid:20250103T120000
DTEND;TZID=Europe/Madrid:20250103T140000
DTSTAMP:20260424T163050
CREATED:20241226T083707Z
LAST-MODIFIED:20241226T100252Z
UID:35751-1735905600-1735912800@museoautomovilmoda.com
SUMMARY:Visita Reyes Magos
DESCRIPTION:El Museo del Automóvil y la Moda de Málaga tendrá una cita muy especial el próximo 3 de diciembre a partir de las 12:00\, ¡y es que Sus Majestades los Reyes Magos de Oriente vuelven a visitarnos! En esta ocasión acudirán a nuestro museo para entregar regalos a usuarios de La Ciudad de los Niños\, y por supuesto\, también recogerán las cartas de todos los niños que acudan a este evento familiar. \n\n\n\n¡Os esperamos!
URL:https://museoautomovilmoda.com/actividad/visita-reyes-magos/
ATTACH;FMTTYPE=image/jpeg:https://museoautomovilmoda.com/wp-content/uploads/2024/12/Entrega-de-juguetes-MAM.jpg
END:VEVENT
BEGIN:VEVENT
DTSTART;TZID=Europe/Madrid:20250104T110000
DTEND;TZID=Europe/Madrid:20250104T140000
DTSTAMP:20260424T163050
CREATED:20241227T130855Z
LAST-MODIFIED:20241227T130857Z
UID:35777-1735988400-1735999200@museoautomovilmoda.com
SUMMARY:Sábados Creativos (Taller de Ciencia Creativa)
DESCRIPTION:Todos los sábados\, los espacios expositivos y educativos del Museo se convierten en punto de encuentro para los mas pequeños. ¡Cada sábado una actividad distinta! \n\n\n\nTodos los talleres de estos ‘Sábados Creativos’ están dirigidos a niños y niñas de todas las edades. En horario de 11 a 14 horas\, los participantes realizarán actividades relacionadas con una temática concreta: desde robótica a arquitectura\, pasando por edición de videojuegos\, cocina y arqueología.  \n\n\n\nEn cada uno de los talleres se realizarán distintas actividades diseñadas específicamente para despertar la curiosidad intelectual de los pequeños y favorecer el desarrollo de su creatividad. \n\n\n\nActividades\n\n\n\nSÁBADO 4 DE ENERO: Taller de Ciencia Creativa (4 a 12 años). \n\n\n\nSÁBADO 11 DE ENERO: Taller de Programación con Minecraft (6 a 16 años). \n\n\n\nSÁBADO 18 DE ENERO: Taller de Arqueología y Egiptología (4 a 12 años). \n\n\n\nSÁBADO 25 DE ENERO: Taller de Arquitectura para niñ@s (4 a 12 años). \n\n\n\nSÁBADO 1 DE FEBRERO: Taller de Robótica Educativa (6 a 16 años). \n\n\n\nSÁBADO 8 DE FEBRERO: Taller de Artes Plásticas e Ilustración (4 a 12 años). \n\n\n\nSÁBADO 15 DE FEBRERO: Taller de Arqueología y Egiptología (4 a 12 años). \n\n\n\nSÁBADO 22 DE FEBRERO: Taller de Programación con Roblox (6 a 16 años). \n\n\n\nSÁBADO 8 DE MARZO: Taller de Ciencias Creativas (4 a 12 años). \n\n\n\nSÁBADO 15 DE MARZO: Taller de Programación con Minecraft (6 a 16 años). \n\n\n\nSÁBADO 22 DE MARZO: Taller de Arquitectura para niñ@s (4 a 12 años). \n\n\n\nSÁBADO 29 DE MARZO: Taller de Programación con Roblox (6 a 16 años). \n\n\n\n \n\n\n\n \n\n\n\nDuración y precio\n\n\n\n3 horas \n\n\n\n15 € \n\n\n\ncondiciones\n\n\n\n– Actividad sujeta a cancelación en caso de no cumplir con el mínimo requerido de asistentes. \n\n\n\n– El acceso al museo será 10 MINUTOS antes del inicio de la actividad \n\n\n\n– La contratación del taller solo permite el acceso a los participantes de este\, los acompañantes deberán esperar fuera del museo. Si desean acceder a las instalaciones o visitar la colección\, deberán adquirir una entrada. \n\n\n\n\nreservar plaza
URL:https://museoautomovilmoda.com/actividad/sabados-creativos-taller-de-ciencia-creativa-6/
ATTACH;FMTTYPE=image/jpeg:https://museoautomovilmoda.com/wp-content/uploads/2024/12/CARTEL-MAM-CIENCIA-04-01-25.jpg
END:VEVENT
BEGIN:VEVENT
DTSTART;TZID=Europe/Madrid:20250111T110000
DTEND;TZID=Europe/Madrid:20250111T140000
DTSTAMP:20260424T163050
CREATED:20241230T092628Z
LAST-MODIFIED:20241230T092653Z
UID:35793-1736593200-1736604000@museoautomovilmoda.com
SUMMARY:Sábados Creativos (Taller de Programación con Minecraft)
DESCRIPTION:Todos los sábados\, los espacios expositivos y educativos del Museo se convierten en punto de encuentro para los mas pequeños. ¡Cada sábado una actividad distinta! \n\n\n\nTodos los talleres de estos ‘Sábados Creativos’ están dirigidos a niños y niñas de todas las edades. En horario de 11 a 14 horas\, los participantes realizarán actividades relacionadas con una temática concreta: desde robótica a arquitectura\, pasando por edición de videojuegos\, cocina y arqueología.  \n\n\n\nEn cada uno de los talleres se realizarán distintas actividades diseñadas específicamente para despertar la curiosidad intelectual de los pequeños y favorecer el desarrollo de su creatividad. \n\n\n\nActividades\n\n\n\nSÁBADO 4 DE ENERO: Taller de Ciencia Creativa (4 a 12 años). \n\n\n\nSÁBADO 11 DE ENERO: Taller de Programación con Minecraft (6 a 16 años). \n\n\n\nSÁBADO 18 DE ENERO: Taller de Arqueología y Egiptología (4 a 12 años). \n\n\n\nSÁBADO 25 DE ENERO: Taller de Arquitectura para niñ@s (4 a 12 años). \n\n\n\nSÁBADO 1 DE FEBRERO: Taller de Robótica Educativa (6 a 16 años). \n\n\n\nSÁBADO 8 DE FEBRERO: Taller de Artes Plásticas e Ilustración (4 a 12 años). \n\n\n\nSÁBADO 15 DE FEBRERO: Taller de Arqueología y Egiptología (4 a 12 años). \n\n\n\nSÁBADO 22 DE FEBRERO: Taller de Programación con Roblox (6 a 16 años). \n\n\n\nSÁBADO 8 DE MARZO: Taller de Ciencias Creativas (4 a 12 años). \n\n\n\nSÁBADO 15 DE MARZO: Taller de Programación con Minecraft (6 a 16 años). \n\n\n\nSÁBADO 22 DE MARZO: Taller de Arquitectura para niñ@s (4 a 12 años). \n\n\n\nSÁBADO 29 DE MARZO: Taller de Programación con Roblox (6 a 16 años). \n\n\n\n \n\n\n\n \n\n\n\nDuración y precio\n\n\n\n3 horas \n\n\n\n15 € \n\n\n\ncondiciones\n\n\n\n– Actividad sujeta a cancelación en caso de no cumplir con el mínimo requerido de asistentes. \n\n\n\n– El acceso al museo será 10 MINUTOS antes del inicio de la actividad \n\n\n\n– La contratación del taller solo permite el acceso a los participantes de este\, los acompañantes deberán esperar fuera del museo. Si desean acceder a las instalaciones o visitar la colección\, deberán adquirir una entrada. \n\n\n\n\nreservar plaza
URL:https://museoautomovilmoda.com/actividad/sabados-creativos-taller-de-programacion-con-minecraft/
ATTACH;FMTTYPE=image/jpeg:https://museoautomovilmoda.com/wp-content/uploads/2024/12/CARTEL-MAM-MINECRAFT-11-01-25.jpg
END:VEVENT
BEGIN:VEVENT
DTSTART;TZID=Europe/Madrid:20250112T123000
DTEND;TZID=Europe/Madrid:20250112T130000
DTSTAMP:20260424T163050
CREATED:20250108T093009Z
LAST-MODIFIED:20250108T093011Z
UID:35840-1736685000-1736686800@museoautomovilmoda.com
SUMMARY:1\, 2\, 3 ¡Arrancamos!
DESCRIPTION:A las 12:30 de cada domingo se realizará la actividad “1\, 2\, 3 ¡Arrancamos!”\, en la que se arrancarán los motores de tres vehículos de la colección y se resolverá cualquier duda sobre estos modelos. \n\n\n\n\ncomprar entradas
URL:https://museoautomovilmoda.com/actividad/1-2-3-arrancamos-53/
ATTACH;FMTTYPE=image/jpeg:https://museoautomovilmoda.com/wp-content/uploads/2023/08/Aston-Martin.jpg
END:VEVENT
BEGIN:VEVENT
DTSTART;TZID=Europe/Madrid:20250118T110000
DTEND;TZID=Europe/Madrid:20250118T140000
DTSTAMP:20260424T163050
CREATED:20241230T092932Z
LAST-MODIFIED:20241230T092935Z
UID:35796-1737198000-1737208800@museoautomovilmoda.com
SUMMARY:Sábados Creativos (Taller de Arqueología y Egiptología)
DESCRIPTION:Todos los sábados\, los espacios expositivos y educativos del Museo se convierten en punto de encuentro para los mas pequeños. ¡Cada sábado una actividad distinta! \n\n\n\nTodos los talleres de estos ‘Sábados Creativos’ están dirigidos a niños y niñas de todas las edades. En horario de 11 a 14 horas\, los participantes realizarán actividades relacionadas con una temática concreta: desde robótica a arquitectura\, pasando por edición de videojuegos\, cocina y arqueología.  \n\n\n\nEn cada uno de los talleres se realizarán distintas actividades diseñadas específicamente para despertar la curiosidad intelectual de los pequeños y favorecer el desarrollo de su creatividad. \n\n\n\nActividades\n\n\n\nSÁBADO 4 DE ENERO: Taller de Ciencia Creativa (4 a 12 años). \n\n\n\nSÁBADO 11 DE ENERO: Taller de Programación con Minecraft (6 a 16 años). \n\n\n\nSÁBADO 18 DE ENERO: Taller de Arqueología y Egiptología (4 a 12 años). \n\n\n\nSÁBADO 25 DE ENERO: Taller de Arquitectura para niñ@s (4 a 12 años). \n\n\n\nSÁBADO 1 DE FEBRERO: Taller de Robótica Educativa (6 a 16 años). \n\n\n\nSÁBADO 8 DE FEBRERO: Taller de Artes Plásticas e Ilustración (4 a 12 años). \n\n\n\nSÁBADO 15 DE FEBRERO: Taller de Arqueología y Egiptología (4 a 12 años). \n\n\n\nSÁBADO 22 DE FEBRERO: Taller de Programación con Roblox (6 a 16 años). \n\n\n\nSÁBADO 8 DE MARZO: Taller de Ciencias Creativas (4 a 12 años). \n\n\n\nSÁBADO 15 DE MARZO: Taller de Programación con Minecraft (6 a 16 años). \n\n\n\nSÁBADO 22 DE MARZO: Taller de Arquitectura para niñ@s (4 a 12 años). \n\n\n\nSÁBADO 29 DE MARZO: Taller de Programación con Roblox (6 a 16 años). \n\n\n\n \n\n\n\n \n\n\n\nDuración y precio\n\n\n\n3 horas \n\n\n\n15 € \n\n\n\ncondiciones\n\n\n\n– Actividad sujeta a cancelación en caso de no cumplir con el mínimo requerido de asistentes. \n\n\n\n– El acceso al museo será 10 MINUTOS antes del inicio de la actividad \n\n\n\n– La contratación del taller solo permite el acceso a los participantes de este\, los acompañantes deberán esperar fuera del museo. Si desean acceder a las instalaciones o visitar la colección\, deberán adquirir una entrada. \n\n\n\n\nreservar plaza
URL:https://museoautomovilmoda.com/actividad/sabados-creativos-taller-de-arqueologia-y-egiptologia-6/
ATTACH;FMTTYPE=image/jpeg:https://museoautomovilmoda.com/wp-content/uploads/2024/12/CARTEL-MAM-EGIPTOLOGIA-15-02-25.jpg
END:VEVENT
BEGIN:VEVENT
DTSTART;TZID=Europe/Madrid:20250119T123000
DTEND;TZID=Europe/Madrid:20250119T130000
DTSTAMP:20260424T163050
CREATED:20250108T093047Z
LAST-MODIFIED:20250108T093049Z
UID:35841-1737289800-1737291600@museoautomovilmoda.com
SUMMARY:1\, 2\, 3 ¡Arrancamos!
DESCRIPTION:A las 12:30 de cada domingo se realizará la actividad “1\, 2\, 3 ¡Arrancamos!”\, en la que se arrancarán los motores de tres vehículos de la colección y se resolverá cualquier duda sobre estos modelos. \n\n\n\n\ncomprar entradas
URL:https://museoautomovilmoda.com/actividad/1-2-3-arrancamos-55/
ATTACH;FMTTYPE=image/jpeg:https://museoautomovilmoda.com/wp-content/uploads/2023/08/Maga_159.jpg
END:VEVENT
BEGIN:VEVENT
DTSTART;TZID=Europe/Madrid:20250124T000000
DTEND;TZID=Europe/Madrid:20250126T235959
DTSTAMP:20260424T163050
CREATED:20250116T080906Z
LAST-MODIFIED:20250120T092238Z
UID:35971-1737676800-1737935999@museoautomovilmoda.com
SUMMARY:Retro Málaga 2025
DESCRIPTION:El salón del vehículo clásico\, de época y de colección Retro Málaga\, se celebra los días 24\, 25 y 26 de enero de 2025 en el Palacio de Ferias y Congresos de Málaga (FYCMA). \n\n\n\nTodos los amantes de los vehículos clásicos y de colección del sur del país y\, en especial\, de la comunidad andaluza tienen una cita ineludible en el salón retro de Málaga por excelencia\, en el que podrás encontrar exposiciones\, stands de accesorios\, repuestos\, regalos\, compra-venta de coches y motos clásicas\, entre otros muchos contenidos.  \n\n\n\nEl Museo del Automóvil y la Moda de Málaga participa un año más con 4 vehículos cuidadosamente seleccionados\, el Ford Thunderbird\, el Peugeot 402\, el Ford B y el Aston Martin\, este último con participación en el concurso de elegancia del salón. \n\n\n\nMás información y entradas
URL:https://museoautomovilmoda.com/actividad/retro-malaga-2025/
ATTACH;FMTTYPE=image/jpeg:https://museoautomovilmoda.com/wp-content/uploads/2025/01/retro-malaga-2025-cartel.jpg
END:VEVENT
BEGIN:VEVENT
DTSTART;TZID=Europe/Madrid:20250125T110000
DTEND;TZID=Europe/Madrid:20250125T140000
DTSTAMP:20260424T163050
CREATED:20241230T093202Z
LAST-MODIFIED:20241230T093204Z
UID:35799-1737802800-1737813600@museoautomovilmoda.com
SUMMARY:Sábados Creativos (Taller de Arquitectura para niñ@s)
DESCRIPTION:Todos los sábados\, los espacios expositivos y educativos del Museo se convierten en punto de encuentro para los mas pequeños. ¡Cada sábado una actividad distinta! \n\n\n\nTodos los talleres de estos ‘Sábados Creativos’ están dirigidos a niños y niñas de todas las edades. En horario de 11 a 14 horas\, los participantes realizarán actividades relacionadas con una temática concreta: desde robótica a arquitectura\, pasando por edición de videojuegos\, cocina y arqueología.  \n\n\n\nEn cada uno de los talleres se realizarán distintas actividades diseñadas específicamente para despertar la curiosidad intelectual de los pequeños y favorecer el desarrollo de su creatividad. \n\n\n\nActividades\n\n\n\nSÁBADO 4 DE ENERO: Taller de Ciencia Creativa (4 a 12 años). \n\n\n\nSÁBADO 11 DE ENERO: Taller de Programación con Minecraft (6 a 16 años). \n\n\n\nSÁBADO 18 DE ENERO: Taller de Arqueología y Egiptología (4 a 12 años). \n\n\n\nSÁBADO 25 DE ENERO: Taller de Arquitectura para niñ@s (4 a 12 años). \n\n\n\nSÁBADO 1 DE FEBRERO: Taller de Robótica Educativa (6 a 16 años). \n\n\n\nSÁBADO 8 DE FEBRERO: Taller de Artes Plásticas e Ilustración (4 a 12 años). \n\n\n\nSÁBADO 15 DE FEBRERO: Taller de Arqueología y Egiptología (4 a 12 años). \n\n\n\nSÁBADO 22 DE FEBRERO: Taller de Programación con Roblox (6 a 16 años). \n\n\n\nSÁBADO 8 DE MARZO: Taller de Ciencias Creativas (4 a 12 años). \n\n\n\nSÁBADO 15 DE MARZO: Taller de Programación con Minecraft (6 a 16 años). \n\n\n\nSÁBADO 22 DE MARZO: Taller de Arquitectura para niñ@s (4 a 12 años). \n\n\n\nSÁBADO 29 DE MARZO: Taller de Programación con Roblox (6 a 16 años). \n\n\n\n \n\n\n\n \n\n\n\nDuración y precio\n\n\n\n3 horas \n\n\n\n15 € \n\n\n\ncondiciones\n\n\n\n– Actividad sujeta a cancelación en caso de no cumplir con el mínimo requerido de asistentes. \n\n\n\n– El acceso al museo será 10 MINUTOS antes del inicio de la actividad \n\n\n\n– La contratación del taller solo permite el acceso a los participantes de este\, los acompañantes deberán esperar fuera del museo. Si desean acceder a las instalaciones o visitar la colección\, deberán adquirir una entrada. \n\n\n\n\nreservar plaza
URL:https://museoautomovilmoda.com/actividad/sabados-creativos-taller-de-arquitectura-para-nins-3/
ATTACH;FMTTYPE=image/jpeg:https://museoautomovilmoda.com/wp-content/uploads/2024/12/CARTEL-MAM-ARQUITECTURA-25-01-25.jpg
END:VEVENT
BEGIN:VEVENT
DTSTART;TZID=Europe/Madrid:20250126T123000
DTEND;TZID=Europe/Madrid:20250126T130000
DTSTAMP:20260424T163050
CREATED:20250108T093127Z
LAST-MODIFIED:20250108T093129Z
UID:35843-1737894600-1737896400@museoautomovilmoda.com
SUMMARY:1\, 2\, 3 ¡Arrancamos!
DESCRIPTION:A las 12:30 de cada domingo se realizará la actividad “1\, 2\, 3 ¡Arrancamos!”\, en la que se arrancarán los motores de tres vehículos de la colección y se resolverá cualquier duda sobre estos modelos. \n\n\n\n\ncomprar entradas
URL:https://museoautomovilmoda.com/actividad/1-2-3-arrancamos-57/
ATTACH;FMTTYPE=image/jpeg:https://museoautomovilmoda.com/wp-content/uploads/2015/08/Cadillac-Pink-Museo-Automovilístico-de-Málaga.jpg
END:VEVENT
END:VCALENDAR