BEGIN:VCALENDAR
VERSION:2.0
PRODID:-//Museo del Automóvil y la Moda de Málaga - ECPv6.15.15//NONSGML v1.0//EN
CALSCALE:GREGORIAN
METHOD:PUBLISH
X-WR-CALNAME:Museo del Automóvil y la Moda de Málaga
X-ORIGINAL-URL:https://museoautomovilmoda.com
X-WR-CALDESC:Eventos para Museo del Automóvil y la Moda de Málaga
REFRESH-INTERVAL;VALUE=DURATION:PT1H
X-Robots-Tag:noindex
X-PUBLISHED-TTL:PT1H
BEGIN:VTIMEZONE
TZID:Europe/Madrid
BEGIN:DAYLIGHT
TZOFFSETFROM:+0100
TZOFFSETTO:+0200
TZNAME:CEST
DTSTART:20240331T010000
END:DAYLIGHT
BEGIN:STANDARD
TZOFFSETFROM:+0200
TZOFFSETTO:+0100
TZNAME:CET
DTSTART:20241027T010000
END:STANDARD
BEGIN:DAYLIGHT
TZOFFSETFROM:+0100
TZOFFSETTO:+0200
TZNAME:CEST
DTSTART:20250330T010000
END:DAYLIGHT
BEGIN:STANDARD
TZOFFSETFROM:+0200
TZOFFSETTO:+0100
TZNAME:CET
DTSTART:20251026T010000
END:STANDARD
BEGIN:DAYLIGHT
TZOFFSETFROM:+0100
TZOFFSETTO:+0200
TZNAME:CEST
DTSTART:20260329T010000
END:DAYLIGHT
BEGIN:STANDARD
TZOFFSETFROM:+0200
TZOFFSETTO:+0100
TZNAME:CET
DTSTART:20261025T010000
END:STANDARD
END:VTIMEZONE
BEGIN:VEVENT
DTSTART;TZID=Europe/Madrid:20250201T110000
DTEND;TZID=Europe/Madrid:20250201T140000
DTSTAMP:20260424T145517
CREATED:20241230T093413Z
LAST-MODIFIED:20241230T093415Z
UID:35801-1738407600-1738418400@museoautomovilmoda.com
SUMMARY:Sábados Creativos (Taller de Robótica Educativa)
DESCRIPTION:Todos los sábados\, los espacios expositivos y educativos del Museo se convierten en punto de encuentro para los mas pequeños. ¡Cada sábado una actividad distinta! \n\n\n\nTodos los talleres de estos ‘Sábados Creativos’ están dirigidos a niños y niñas de todas las edades. En horario de 11 a 14 horas\, los participantes realizarán actividades relacionadas con una temática concreta: desde robótica a arquitectura\, pasando por edición de videojuegos\, cocina y arqueología.  \n\n\n\nEn cada uno de los talleres se realizarán distintas actividades diseñadas específicamente para despertar la curiosidad intelectual de los pequeños y favorecer el desarrollo de su creatividad. \n\n\n\nActividades\n\n\n\nSÁBADO 4 DE ENERO: Taller de Ciencia Creativa (4 a 12 años). \n\n\n\nSÁBADO 11 DE ENERO: Taller de Programación con Minecraft (6 a 16 años). \n\n\n\nSÁBADO 18 DE ENERO: Taller de Arqueología y Egiptología (4 a 12 años). \n\n\n\nSÁBADO 25 DE ENERO: Taller de Arquitectura para niñ@s (4 a 12 años). \n\n\n\nSÁBADO 1 DE FEBRERO: Taller de Robótica Educativa (6 a 16 años). \n\n\n\nSÁBADO 8 DE FEBRERO: Taller de Artes Plásticas e Ilustración (4 a 12 años). \n\n\n\nSÁBADO 15 DE FEBRERO: Taller de Arqueología y Egiptología (4 a 12 años). \n\n\n\nSÁBADO 22 DE FEBRERO: Taller de Programación con Roblox (6 a 16 años). \n\n\n\nSÁBADO 8 DE MARZO: Taller de Ciencias Creativas (4 a 12 años). \n\n\n\nSÁBADO 15 DE MARZO: Taller de Programación con Minecraft (6 a 16 años). \n\n\n\nSÁBADO 22 DE MARZO: Taller de Arquitectura para niñ@s (4 a 12 años). \n\n\n\nSÁBADO 29 DE MARZO: Taller de Programación con Roblox (6 a 16 años). \n\n\n\n \n\n\n\n \n\n\n\nDuración y precio\n\n\n\n3 horas \n\n\n\n15 € \n\n\n\ncondiciones\n\n\n\n– Actividad sujeta a cancelación en caso de no cumplir con el mínimo requerido de asistentes. \n\n\n\n– El acceso al museo será 10 MINUTOS antes del inicio de la actividad \n\n\n\n– La contratación del taller solo permite el acceso a los participantes de este\, los acompañantes deberán esperar fuera del museo. Si desean acceder a las instalaciones o visitar la colección\, deberán adquirir una entrada. \n\n\n\n\nreservar plaza
URL:https://museoautomovilmoda.com/actividad/sabados-creativos-taller-de-robotica-educativa-4/
ATTACH;FMTTYPE=image/jpeg:https://museoautomovilmoda.com/wp-content/uploads/2024/12/CARTEL-MAM-ROBOTICA-01-02-25.jpg
END:VEVENT
BEGIN:VEVENT
DTSTART;TZID=Europe/Madrid:20250202T123000
DTEND;TZID=Europe/Madrid:20250202T130000
DTSTAMP:20260424T145517
CREATED:20250108T093352Z
LAST-MODIFIED:20250108T093353Z
UID:35846-1738499400-1738501200@museoautomovilmoda.com
SUMMARY:1\, 2\, 3 ¡Arrancamos!
DESCRIPTION:A las 12:30 de cada domingo se realizará la actividad “1\, 2\, 3 ¡Arrancamos!”\, en la que se arrancarán los motores de tres vehículos de la colección y se resolverá cualquier duda sobre estos modelos. \n\n\n\n\ncomprar entradas
URL:https://museoautomovilmoda.com/actividad/1-2-3-arrancamos-58/
ATTACH;FMTTYPE=image/jpeg:https://museoautomovilmoda.com/wp-content/uploads/2023/08/Aston-Martin.jpg
END:VEVENT
BEGIN:VEVENT
DTSTART;TZID=Europe/Madrid:20250208T110000
DTEND;TZID=Europe/Madrid:20250208T140000
DTSTAMP:20260424T145517
CREATED:20241230T093649Z
LAST-MODIFIED:20241230T093652Z
UID:35803-1739012400-1739023200@museoautomovilmoda.com
SUMMARY:Sábados Creativos (Taller de Artes plásticas e Ilustración)
DESCRIPTION:Todos los sábados\, los espacios expositivos y educativos del Museo se convierten en punto de encuentro para los mas pequeños. ¡Cada sábado una actividad distinta! \n\n\n\nTodos los talleres de estos ‘Sábados Creativos’ están dirigidos a niños y niñas de todas las edades. En horario de 11 a 14 horas\, los participantes realizarán actividades relacionadas con una temática concreta: desde robótica a arquitectura\, pasando por edición de videojuegos\, cocina y arqueología.  \n\n\n\nEn cada uno de los talleres se realizarán distintas actividades diseñadas específicamente para despertar la curiosidad intelectual de los pequeños y favorecer el desarrollo de su creatividad. \n\n\n\nActividades\n\n\n\nSÁBADO 4 DE ENERO: Taller de Ciencia Creativa (4 a 12 años). \n\n\n\nSÁBADO 11 DE ENERO: Taller de Programación con Minecraft (6 a 16 años). \n\n\n\nSÁBADO 18 DE ENERO: Taller de Arqueología y Egiptología (4 a 12 años). \n\n\n\nSÁBADO 25 DE ENERO: Taller de Arquitectura para niñ@s (4 a 12 años). \n\n\n\nSÁBADO 1 DE FEBRERO: Taller de Robótica Educativa (6 a 16 años). \n\n\n\nSÁBADO 8 DE FEBRERO: Taller de Artes Plásticas e Ilustración (4 a 12 años). \n\n\n\nSÁBADO 15 DE FEBRERO: Taller de Arqueología y Egiptología (4 a 12 años). \n\n\n\nSÁBADO 22 DE FEBRERO: Taller de Programación con Roblox (6 a 16 años). \n\n\n\nSÁBADO 8 DE MARZO: Taller de Ciencias Creativas (4 a 12 años). \n\n\n\nSÁBADO 15 DE MARZO: Taller de Programación con Minecraft (6 a 16 años). \n\n\n\nSÁBADO 22 DE MARZO: Taller de Arquitectura para niñ@s (4 a 12 años). \n\n\n\nSÁBADO 29 DE MARZO: Taller de Programación con Roblox (6 a 16 años). \n\n\n\n \n\n\n\n \n\n\n\nDuración y precio\n\n\n\n3 horas \n\n\n\n15 € \n\n\n\ncondiciones\n\n\n\n– Actividad sujeta a cancelación en caso de no cumplir con el mínimo requerido de asistentes. \n\n\n\n– El acceso al museo será 10 MINUTOS antes del inicio de la actividad \n\n\n\n– La contratación del taller solo permite el acceso a los participantes de este\, los acompañantes deberán esperar fuera del museo. Si desean acceder a las instalaciones o visitar la colección\, deberán adquirir una entrada. \n\n\n\n\nreservar plaza
URL:https://museoautomovilmoda.com/actividad/sabados-creativos-taller-de-artes-plasticas-e-ilustracion/
ATTACH;FMTTYPE=image/jpeg:https://museoautomovilmoda.com/wp-content/uploads/2024/12/CARTEL-MAM-ARTES-08-02-25.jpg
END:VEVENT
BEGIN:VEVENT
DTSTART;TZID=Europe/Madrid:20250209T123000
DTEND;TZID=Europe/Madrid:20250209T130000
DTSTAMP:20260424T145517
CREATED:20250108T093434Z
LAST-MODIFIED:20250108T093436Z
UID:35849-1739104200-1739106000@museoautomovilmoda.com
SUMMARY:1\, 2\, 3 ¡Arrancamos!
DESCRIPTION:A las 12:30 de cada domingo se realizará la actividad “1\, 2\, 3 ¡Arrancamos!”\, en la que se arrancarán los motores de tres vehículos de la colección y se resolverá cualquier duda sobre estos modelos. \n\n\n\n\ncomprar entradas
URL:https://museoautomovilmoda.com/actividad/1-2-3-arrancamos-59/
ATTACH;FMTTYPE=image/jpeg:https://museoautomovilmoda.com/wp-content/uploads/2015/08/Cadillac-Pink-Museo-Automovilístico-de-Málaga.jpg
END:VEVENT
BEGIN:VEVENT
DTSTART;TZID=Europe/Madrid:20250215T110000
DTEND;TZID=Europe/Madrid:20250215T140000
DTSTAMP:20260424T145517
CREATED:20241230T093859Z
LAST-MODIFIED:20241230T093904Z
UID:35805-1739617200-1739628000@museoautomovilmoda.com
SUMMARY:Sábados Creativos (Taller de Arqueología y Egiptología)
DESCRIPTION:Todos los sábados\, los espacios expositivos y educativos del Museo se convierten en punto de encuentro para los mas pequeños. ¡Cada sábado una actividad distinta! \n\n\n\nTodos los talleres de estos ‘Sábados Creativos’ están dirigidos a niños y niñas de todas las edades. En horario de 11 a 14 horas\, los participantes realizarán actividades relacionadas con una temática concreta: desde robótica a arquitectura\, pasando por edición de videojuegos\, cocina y arqueología.  \n\n\n\nEn cada uno de los talleres se realizarán distintas actividades diseñadas específicamente para despertar la curiosidad intelectual de los pequeños y favorecer el desarrollo de su creatividad. \n\n\n\nActividades\n\n\n\nSÁBADO 4 DE ENERO: Taller de Ciencia Creativa (4 a 12 años). \n\n\n\nSÁBADO 11 DE ENERO: Taller de Programación con Minecraft (6 a 16 años). \n\n\n\nSÁBADO 18 DE ENERO: Taller de Arqueología y Egiptología (4 a 12 años). \n\n\n\nSÁBADO 25 DE ENERO: Taller de Arquitectura para niñ@s (4 a 12 años). \n\n\n\nSÁBADO 1 DE FEBRERO: Taller de Robótica Educativa (6 a 16 años). \n\n\n\nSÁBADO 8 DE FEBRERO: Taller de Artes Plásticas e Ilustración (4 a 12 años). \n\n\n\nSÁBADO 15 DE FEBRERO: Taller de Arqueología y Egiptología (4 a 12 años). \n\n\n\nSÁBADO 22 DE FEBRERO: Taller de Programación con Roblox (6 a 16 años). \n\n\n\nSÁBADO 8 DE MARZO: Taller de Ciencias Creativas (4 a 12 años). \n\n\n\nSÁBADO 15 DE MARZO: Taller de Programación con Minecraft (6 a 16 años). \n\n\n\nSÁBADO 22 DE MARZO: Taller de Arquitectura para niñ@s (4 a 12 años). \n\n\n\nSÁBADO 29 DE MARZO: Taller de Programación con Roblox (6 a 16 años). \n\n\n\n \n\n\n\n \n\n\n\nDuración y precio\n\n\n\n3 horas \n\n\n\n15 € \n\n\n\ncondiciones\n\n\n\n– Actividad sujeta a cancelación en caso de no cumplir con el mínimo requerido de asistentes. \n\n\n\n– El acceso al museo será 10 MINUTOS antes del inicio de la actividad \n\n\n\n– La contratación del taller solo permite el acceso a los participantes de este\, los acompañantes deberán esperar fuera del museo. Si desean acceder a las instalaciones o visitar la colección\, deberán adquirir una entrada. \n\n\n\n\nreservar plaza
URL:https://museoautomovilmoda.com/actividad/sabados-creativos-taller-de-arqueologia-y-egiptologia-7/
ATTACH;FMTTYPE=image/jpeg:https://museoautomovilmoda.com/wp-content/uploads/2024/12/CARTEL-MAM-EGIPTOLOGIA-15-02-25.jpg
END:VEVENT
BEGIN:VEVENT
DTSTART;TZID=Europe/Madrid:20250216T123000
DTEND;TZID=Europe/Madrid:20250216T130000
DTSTAMP:20260424T145517
CREATED:20250108T093540Z
LAST-MODIFIED:20250108T093543Z
UID:35851-1739709000-1739710800@museoautomovilmoda.com
SUMMARY:1\, 2\, 3 ¡Arrancamos!
DESCRIPTION:A las 12:30 de cada domingo se realizará la actividad “1\, 2\, 3 ¡Arrancamos!”\, en la que se arrancarán los motores de tres vehículos de la colección y se resolverá cualquier duda sobre estos modelos. \n\n\n\n\ncomprar entradas
URL:https://museoautomovilmoda.com/actividad/1-2-3-arrancamos-60/
ATTACH;FMTTYPE=image/jpeg:https://museoautomovilmoda.com/wp-content/uploads/2023/08/Maga_159.jpg
END:VEVENT
BEGIN:VEVENT
DTSTART;TZID=Europe/Madrid:20250222T110000
DTEND;TZID=Europe/Madrid:20250222T140000
DTSTAMP:20260424T145517
CREATED:20241230T094137Z
LAST-MODIFIED:20241230T094140Z
UID:35807-1740222000-1740232800@museoautomovilmoda.com
SUMMARY:Sábados Creativos (Taller de Programación con Roblox)
DESCRIPTION:Todos los sábados\, los espacios expositivos y educativos del Museo se convierten en punto de encuentro para los mas pequeños. ¡Cada sábado una actividad distinta! \n\n\n\nTodos los talleres de estos ‘Sábados Creativos’ están dirigidos a niños y niñas de todas las edades. En horario de 11 a 14 horas\, los participantes realizarán actividades relacionadas con una temática concreta: desde robótica a arquitectura\, pasando por edición de videojuegos\, cocina y arqueología.  \n\n\n\nEn cada uno de los talleres se realizarán distintas actividades diseñadas específicamente para despertar la curiosidad intelectual de los pequeños y favorecer el desarrollo de su creatividad. \n\n\n\nActividades\n\n\n\nSÁBADO 4 DE ENERO: Taller de Ciencia Creativa (4 a 12 años). \n\n\n\nSÁBADO 11 DE ENERO: Taller de Programación con Minecraft (6 a 16 años). \n\n\n\nSÁBADO 18 DE ENERO: Taller de Arqueología y Egiptología (4 a 12 años). \n\n\n\nSÁBADO 25 DE ENERO: Taller de Arquitectura para niñ@s (4 a 12 años). \n\n\n\nSÁBADO 1 DE FEBRERO: Taller de Robótica Educativa (6 a 16 años). \n\n\n\nSÁBADO 8 DE FEBRERO: Taller de Artes Plásticas e Ilustración (4 a 12 años). \n\n\n\nSÁBADO 15 DE FEBRERO: Taller de Arqueología y Egiptología (4 a 12 años). \n\n\n\nSÁBADO 22 DE FEBRERO: Taller de Programación con Roblox (6 a 16 años). \n\n\n\nSÁBADO 8 DE MARZO: Taller de Ciencias Creativas (4 a 12 años). \n\n\n\nSÁBADO 15 DE MARZO: Taller de Programación con Minecraft (6 a 16 años). \n\n\n\nSÁBADO 22 DE MARZO: Taller de Arquitectura para niñ@s (4 a 12 años). \n\n\n\nSÁBADO 29 DE MARZO: Taller de Programación con Roblox (6 a 16 años). \n\n\n\n \n\n\n\n \n\n\n\nDuración y precio\n\n\n\n3 horas \n\n\n\n15 € \n\n\n\ncondiciones\n\n\n\n– Actividad sujeta a cancelación en caso de no cumplir con el mínimo requerido de asistentes. \n\n\n\n– El acceso al museo será 10 MINUTOS antes del inicio de la actividad \n\n\n\n– La contratación del taller solo permite el acceso a los participantes de este\, los acompañantes deberán esperar fuera del museo. Si desean acceder a las instalaciones o visitar la colección\, deberán adquirir una entrada. \n\n\n\n\nreservar plaza
URL:https://museoautomovilmoda.com/actividad/sabados-creativos-taller-de-programacion-con-roblox-7/
ATTACH;FMTTYPE=image/jpeg:https://museoautomovilmoda.com/wp-content/uploads/2024/12/CARTEL-MAM-ROBLOX-22-02-25.jpg
END:VEVENT
BEGIN:VEVENT
DTSTART;TZID=Europe/Madrid:20250222T120000
DTEND;TZID=Europe/Madrid:20250223T210000
DTSTAMP:20260424T145517
CREATED:20250120T092020Z
LAST-MODIFIED:20250120T092137Z
UID:35977-1740225600-1740344400@museoautomovilmoda.com
SUMMARY:FIMAF 2025
DESCRIPTION:FIMAF\, la Feria Internacional de la Moda Flamenca de Málaga\, por fin le ha dado a la capital malagueña su espacio dentro del mundo de la moda flamenca en Andalucía. Después de Sevilla\, Jerez y Andújar\, Málaga también se involucra en el mundo de la alta costura flamenca desde el año 2017. Esta gran cita de la Moda Flamenca tiene lugar en el Museo del Automóvil y la Moda de Málaga\, en el mágico entorno de la Tabacalera de Málaga. De esta manera\, este museo se convierte por unos días en el epicentro del mundo de la moda en general y el diseño de los trajes de flamenca en particular. \n\n\n\nFIMAF apuesta por crear un escaparate para los diseñadores y creadores de Málaga y provincia\, así como de toda Andalucía\, para promocionar este sector de la industria del flamenco que tanto dinero mueve al año entre ferias\, romerías\, etc. \n\n\n\nEl mundo del flamenco en Málaga cuenta\, por lo tanto\, con otra fecha ineludible en el mundo del arte\, con pasarela de moda\, zona de exposición de las diferentes marcas y costuras\, desfiles\, presentaciones\, actuaciones\, degustaciones… todo organizado por NuevaModa Producciones.
URL:https://museoautomovilmoda.com/actividad/fimaf-2025/
ATTACH;FMTTYPE=image/jpeg:https://museoautomovilmoda.com/wp-content/uploads/2025/01/Cartel-Fimaf-2025.jpg
END:VEVENT
BEGIN:VEVENT
DTSTART;TZID=Europe/Madrid:20250223T123000
DTEND;TZID=Europe/Madrid:20250223T130000
DTSTAMP:20260424T145517
CREATED:20250108T094111Z
LAST-MODIFIED:20250108T094113Z
UID:35854-1740313800-1740315600@museoautomovilmoda.com
SUMMARY:1\, 2\, 3 ¡Arrancamos!
DESCRIPTION:A las 12:30 de cada domingo se realizará la actividad “1\, 2\, 3 ¡Arrancamos!”\, en la que se arrancarán los motores de tres vehículos de la colección y se resolverá cualquier duda sobre estos modelos. \n\n\n\n\ncomprar entradas
URL:https://museoautomovilmoda.com/actividad/1-2-3-arrancamos-61/
ATTACH;FMTTYPE=image/jpeg:https://museoautomovilmoda.com/wp-content/uploads/2023/08/Aston-Martin.jpg
END:VEVENT
BEGIN:VEVENT
DTSTART;TZID=Europe/Madrid:20250224T100000
DTEND;TZID=Europe/Madrid:20250224T140000
DTSTAMP:20260424T145517
CREATED:20250203T082753Z
LAST-MODIFIED:20250314T111040Z
UID:36150-1740391200-1740405600@museoautomovilmoda.com
SUMMARY:Campamento Semana Blanca (taller de Roblox)
DESCRIPTION:El Museo del Automóvil y la Moda de Málaga ha preparado en colaboración con El Cubo Inquieto un campamento infantil de Semana Blanca para que los más pequeños disfruten al máximo de las vacaciones a la vez que aprenden sobre ciencia y tecnología. \n\n\n\nTodos los talleres están dirigidos a niños y niñas de 4 a 12 años. Cada día\, en horario de 10 a 14 horas\, los participantes realizarán actividades relacionadas con una temática concreta: arquitectura\, arqueología y videojuegos. \n\n\n\nActividades\n\n\n\nLUNES 24 DE FEBRERO: Taller de Roblox \n\n\n\nMARTES 25 DE FEBRERO: Taller de Arquitectura \n\n\n\nJUEVES 26 DE FEBRERO: Taller de Robótica \n\n\n\nJUEVES 27 DE FEBRERO: Taller de Ciencia \n\n\n\n \n\n\n\nDuración y precio\n\n\n\n4 horas \n\n\n\n20 € / día \n\n\n\ncondiciones\n\n\n\n– Actividad sujeta a cancelación en caso de no cumplir con el mínimo requerido de asistentes. \n\n\n\n– El acceso al museo será 10 MINUTOS antes del inicio de la actividad \n\n\n\n– La contratación del taller solo permite el acceso a los participantes de este\, los acompañantes deberán esperar fuera del museo. Si desean acceder a las instalaciones o visitar la colección\, deberán adquirir una entrada.
URL:https://museoautomovilmoda.com/actividad/campamento-semana-blanca-taller-de-roblox-2/
ATTACH;FMTTYPE=image/png:https://museoautomovilmoda.com/wp-content/uploads/2025/02/CARTEL-MUSEO-AUTOMOVIL-CAMPAMENTO-DE-SEMANA-BLANCA-2025.png
END:VEVENT
BEGIN:VEVENT
DTSTART;TZID=Europe/Madrid:20250225T100000
DTEND;TZID=Europe/Madrid:20250225T140000
DTSTAMP:20260424T145517
CREATED:20250206T082051Z
LAST-MODIFIED:20250314T111034Z
UID:36160-1740477600-1740492000@museoautomovilmoda.com
SUMMARY:Campamento Semana Blanca (taller de Arquitectura)
DESCRIPTION:El Museo del Automóvil y la Moda de Málaga ha preparado en colaboración con El Cubo Inquieto un campamento infantil de Semana Blanca para que los más pequeños disfruten al máximo de las vacaciones a la vez que aprenden sobre ciencia y tecnología. \n\n\n\nTodos los talleres están dirigidos a niños y niñas de 4 a 12 años. Cada día\, en horario de 10 a 14 horas\, los participantes realizarán actividades relacionadas con una temática concreta: arquitectura\, arqueología y videojuegos. \n\n\n\nActividades\n\n\n\nLUNES 24 DE FEBRERO: Taller de Roblox \n\n\n\nMARTES 25 DE FEBRERO: Taller de Arquitectura \n\n\n\nJUEVES 26 DE FEBRERO: Taller de Robótica \n\n\n\nJUEVES 27 DE FEBRERO: Taller de Ciencia \n\n\n\n \n\n\n\nDuración y precio\n\n\n\n4 horas \n\n\n\n20 € / día \n\n\n\ncondiciones\n\n\n\n– Actividad sujeta a cancelación en caso de no cumplir con el mínimo requerido de asistentes. \n\n\n\n– El acceso al museo será 10 MINUTOS antes del inicio de la actividad \n\n\n\n– La contratación del taller solo permite el acceso a los participantes de este\, los acompañantes deberán esperar fuera del museo. Si desean acceder a las instalaciones o visitar la colección\, deberán adquirir una entrada.
URL:https://museoautomovilmoda.com/actividad/campamento-semana-blanca-taller-de-arquitectura-2/
ATTACH;FMTTYPE=image/png:https://museoautomovilmoda.com/wp-content/uploads/2025/02/CARTEL-MUSEO-AUTOMOVIL-CAMPAMENTO-DE-SEMANA-BLANCA-2025.png
END:VEVENT
BEGIN:VEVENT
DTSTART;TZID=Europe/Madrid:20250226T100000
DTEND;TZID=Europe/Madrid:20250226T140000
DTSTAMP:20260424T145517
CREATED:20250206T082218Z
LAST-MODIFIED:20250314T111030Z
UID:36163-1740564000-1740578400@museoautomovilmoda.com
SUMMARY:Campamento Semana Blanca (taller de Robótica)
DESCRIPTION:El Museo del Automóvil y la Moda de Málaga ha preparado en colaboración con El Cubo Inquieto un campamento infantil de Semana Blanca para que los más pequeños disfruten al máximo de las vacaciones a la vez que aprenden sobre ciencia y tecnología. \n\n\n\nTodos los talleres están dirigidos a niños y niñas de 4 a 12 años. Cada día\, en horario de 10 a 14 horas\, los participantes realizarán actividades relacionadas con una temática concreta: arquitectura\, arqueología y videojuegos. \n\n\n\nActividades\n\n\n\nLUNES 24 DE FEBRERO: Taller de Roblox \n\n\n\nMARTES 25 DE FEBRERO: Taller de Arquitectura \n\n\n\nJUEVES 26 DE FEBRERO: Taller de Robótica \n\n\n\nJUEVES 27 DE FEBRERO: Taller de Ciencia \n\n\n\n \n\n\n\nDuración y precio\n\n\n\n4 horas \n\n\n\n20 € / día \n\n\n\ncondiciones\n\n\n\n– Actividad sujeta a cancelación en caso de no cumplir con el mínimo requerido de asistentes. \n\n\n\n– El acceso al museo será 10 MINUTOS antes del inicio de la actividad \n\n\n\n– La contratación del taller solo permite el acceso a los participantes de este\, los acompañantes deberán esperar fuera del museo. Si desean acceder a las instalaciones o visitar la colección\, deberán adquirir una entrada.
URL:https://museoautomovilmoda.com/actividad/campamento-semana-blanca-taller-de-robotica-2/
ATTACH;FMTTYPE=image/png:https://museoautomovilmoda.com/wp-content/uploads/2025/02/CARTEL-MUSEO-AUTOMOVIL-CAMPAMENTO-DE-SEMANA-BLANCA-2025.png
END:VEVENT
BEGIN:VEVENT
DTSTART;TZID=Europe/Madrid:20250227T100000
DTEND;TZID=Europe/Madrid:20250227T140000
DTSTAMP:20260424T145517
CREATED:20250206T082510Z
LAST-MODIFIED:20250314T111019Z
UID:36165-1740650400-1740664800@museoautomovilmoda.com
SUMMARY:Campamento Semana Blanca (taller de Ciencia)
DESCRIPTION:El Museo del Automóvil y la Moda de Málaga ha preparado en colaboración con El Cubo Inquieto un campamento infantil de Semana Blanca para que los más pequeños disfruten al máximo de las vacaciones a la vez que aprenden sobre ciencia y tecnología. \n\n\n\nTodos los talleres están dirigidos a niños y niñas de 4 a 12 años. Cada día\, en horario de 10 a 14 horas\, los participantes realizarán actividades relacionadas con una temática concreta: arquitectura\, arqueología y videojuegos. \n\n\n\nActividades\n\n\n\nLUNES 24 DE FEBRERO: Taller de Roblox \n\n\n\nMARTES 25 DE FEBRERO: Taller de Arquitectura \n\n\n\nJUEVES 26 DE FEBRERO: Taller de Robótica \n\n\n\nJUEVES 27 DE FEBRERO: Taller de Ciencia \n\n\n\n \n\n\n\nDuración y precio\n\n\n\n4 horas \n\n\n\n20 € / día \n\n\n\ncondiciones\n\n\n\n– Actividad sujeta a cancelación en caso de no cumplir con el mínimo requerido de asistentes. \n\n\n\n– El acceso al museo será 10 MINUTOS antes del inicio de la actividad \n\n\n\n– La contratación del taller solo permite el acceso a los participantes de este\, los acompañantes deberán esperar fuera del museo. Si desean acceder a las instalaciones o visitar la colección\, deberán adquirir una entrada.
URL:https://museoautomovilmoda.com/actividad/campamento-semana-blanca-taller-de-ciencia-2/
ATTACH;FMTTYPE=image/png:https://museoautomovilmoda.com/wp-content/uploads/2025/02/CARTEL-MUSEO-AUTOMOVIL-CAMPAMENTO-DE-SEMANA-BLANCA-2025.png
END:VEVENT
END:VCALENDAR