BEGIN:VCALENDAR
VERSION:2.0
PRODID:-//Museo del Automóvil y la Moda de Málaga - ECPv6.15.15//NONSGML v1.0//EN
CALSCALE:GREGORIAN
METHOD:PUBLISH
X-ORIGINAL-URL:https://museoautomovilmoda.com
X-WR-CALDESC:Eventos para Museo del Automóvil y la Moda de Málaga
REFRESH-INTERVAL;VALUE=DURATION:PT1H
X-Robots-Tag:noindex
X-PUBLISHED-TTL:PT1H
BEGIN:VTIMEZONE
TZID:Europe/Madrid
BEGIN:DAYLIGHT
TZOFFSETFROM:+0100
TZOFFSETTO:+0200
TZNAME:CEST
DTSTART:20240331T010000
END:DAYLIGHT
BEGIN:STANDARD
TZOFFSETFROM:+0200
TZOFFSETTO:+0100
TZNAME:CET
DTSTART:20241027T010000
END:STANDARD
BEGIN:DAYLIGHT
TZOFFSETFROM:+0100
TZOFFSETTO:+0200
TZNAME:CEST
DTSTART:20250330T010000
END:DAYLIGHT
BEGIN:STANDARD
TZOFFSETFROM:+0200
TZOFFSETTO:+0100
TZNAME:CET
DTSTART:20251026T010000
END:STANDARD
BEGIN:DAYLIGHT
TZOFFSETFROM:+0100
TZOFFSETTO:+0200
TZNAME:CEST
DTSTART:20260329T010000
END:DAYLIGHT
BEGIN:STANDARD
TZOFFSETFROM:+0200
TZOFFSETTO:+0100
TZNAME:CET
DTSTART:20261025T010000
END:STANDARD
END:VTIMEZONE
BEGIN:VEVENT
DTSTART;TZID=Europe/Madrid:20250907T123000
DTEND;TZID=Europe/Madrid:20250907T130000
DTSTAMP:20260422T144027
CREATED:20250227T131822Z
LAST-MODIFIED:20250227T131824Z
UID:36410-1757248200-1757250000@museoautomovilmoda.com
SUMMARY:1\, 2\, 3 ¡Arrancamos!
DESCRIPTION:A las 12:30 de cada domingo se realizará la actividad “1\, 2\, 3 ¡Arrancamos!”\, en la que se arrancarán los motores de tres vehículos de la colección y se resolverá cualquier duda sobre estos modelos. \n\n\n\n\ncomprar entradas
URL:https://museoautomovilmoda.com/actividad/1-2-3-arrancamos-89/
ATTACH;FMTTYPE=image/jpeg:https://museoautomovilmoda.com/wp-content/uploads/2015/08/Cadillac-Pink-Museo-Automovilístico-de-Málaga.jpg
END:VEVENT
BEGIN:VEVENT
DTSTART;TZID=Europe/Madrid:20250907T123000
DTEND;TZID=Europe/Madrid:20250907T133000
DTSTAMP:20260422T144027
CREATED:20250828T113827Z
LAST-MODIFIED:20250828T115306Z
UID:39131-1757248200-1757251800@museoautomovilmoda.com
SUMMARY:1\, 2\, 3 ¡Arrancamos!
DESCRIPTION:Cada domingo se realiza la actividad ‘1\, 2\, 3 ¡Arrancamos!’\, en la que un técnico especializado arrancará los motores de varios vehículos de la colección. \n\n\n\n\ncomprar entradas
URL:https://museoautomovilmoda.com/actividad/1-2-3-arrancamos-79/
END:VEVENT
BEGIN:VEVENT
DTSTART;TZID=Europe/Madrid:20250914T123000
DTEND;TZID=Europe/Madrid:20250914T130000
DTSTAMP:20260422T144027
CREATED:20250227T131858Z
LAST-MODIFIED:20250227T131901Z
UID:36412-1757853000-1757854800@museoautomovilmoda.com
SUMMARY:1\, 2\, 3 ¡Arrancamos!
DESCRIPTION:A las 12:30 de cada domingo se realizará la actividad “1\, 2\, 3 ¡Arrancamos!”\, en la que se arrancarán los motores de tres vehículos de la colección y se resolverá cualquier duda sobre estos modelos. \n\n\n\n\ncomprar entradas
URL:https://museoautomovilmoda.com/actividad/1-2-3-arrancamos-90/
ATTACH;FMTTYPE=image/jpeg:https://museoautomovilmoda.com/wp-content/uploads/2023/08/Maga_159.jpg
END:VEVENT
BEGIN:VEVENT
DTSTART;TZID=Europe/Madrid:20250921T123000
DTEND;TZID=Europe/Madrid:20250921T130000
DTSTAMP:20260422T144027
CREATED:20250227T131916Z
LAST-MODIFIED:20250227T131918Z
UID:36414-1758457800-1758459600@museoautomovilmoda.com
SUMMARY:1\, 2\, 3 ¡Arrancamos!
DESCRIPTION:A las 12:30 de cada domingo se realizará la actividad “1\, 2\, 3 ¡Arrancamos!”\, en la que se arrancarán los motores de tres vehículos de la colección y se resolverá cualquier duda sobre estos modelos. \n\n\n\n\ncomprar entradas
URL:https://museoautomovilmoda.com/actividad/1-2-3-arrancamos-91/
ATTACH;FMTTYPE=image/jpeg:https://museoautomovilmoda.com/wp-content/uploads/2023/08/Aston-Martin.jpg
END:VEVENT
BEGIN:VEVENT
DTSTART;TZID=Europe/Madrid:20250927T193000
DTEND;TZID=Europe/Madrid:20250927T210000
DTSTAMP:20260422T144027
CREATED:20250916T102036Z
LAST-MODIFIED:20250916T102037Z
UID:39172-1759001400-1759006800@museoautomovilmoda.com
SUMMARY:Visita Teatralizada
DESCRIPTION:Nos aliamos con Historia Viva Málaga para hacer una experiencia inmersiva en la historia del vehículo\, de la moda y de la evolución de la sociedad desde la Belle Époque. Una actividad para toda la familia donde el humor y las curiosidades sobre arte e historia están presente de principio a fin. \n\n\n\nPase: 19:30h. \n\n\n\nInformación de reservas y compra de entradas aquí.
URL:https://museoautomovilmoda.com/actividad/visita-teatralizada-10/
ATTACH;FMTTYPE=image/jpeg:https://museoautomovilmoda.com/wp-content/uploads/2023/06/Visitas-teatralizadas-mam.jpg
END:VEVENT
BEGIN:VEVENT
DTSTART;TZID=Europe/Madrid:20250927T213000
DTEND;TZID=Europe/Madrid:20250927T230000
DTSTAMP:20260422T144027
CREATED:20250916T102315Z
LAST-MODIFIED:20250916T102316Z
UID:39176-1759008600-1759014000@museoautomovilmoda.com
SUMMARY:Visita Teatralizada
DESCRIPTION:Nos aliamos con Historia Viva Málaga para hacer una experiencia inmersiva en la historia del vehículo\, de la moda y de la evolución de la sociedad desde la Belle Époque. Una actividad para toda la familia donde el humor y las curiosidades sobre arte e historia están presente de principio a fin. \n\n\n\nPase: 21:30h. \n\n\n\nInformación de reservas y compra de entradas aquí.
URL:https://museoautomovilmoda.com/actividad/visita-teatralizada-11/
ATTACH;FMTTYPE=image/jpeg:https://museoautomovilmoda.com/wp-content/uploads/2023/06/Visitas-teatralizadas-mam.jpg
END:VEVENT
BEGIN:VEVENT
DTSTART;TZID=Europe/Madrid:20250928T123000
DTEND;TZID=Europe/Madrid:20250928T130000
DTSTAMP:20260422T144028
CREATED:20250227T132037Z
LAST-MODIFIED:20250227T132039Z
UID:36416-1759062600-1759064400@museoautomovilmoda.com
SUMMARY:1\, 2\, 3 ¡Arrancamos!
DESCRIPTION:A las 12:30 de cada domingo se realizará la actividad “1\, 2\, 3 ¡Arrancamos!”\, en la que se arrancarán los motores de tres vehículos de la colección y se resolverá cualquier duda sobre estos modelos. \n\n\n\n\ncomprar entradas
URL:https://museoautomovilmoda.com/actividad/1-2-3-arrancamos-92/
ATTACH;FMTTYPE=image/jpeg:https://museoautomovilmoda.com/wp-content/uploads/2015/08/Cadillac-Pink-Museo-Automovilístico-de-Málaga.jpg
END:VEVENT
END:VCALENDAR