BEGIN:VCALENDAR
VERSION:2.0
PRODID:-//Museo del Automóvil y la Moda de Málaga - ECPv6.15.15//NONSGML v1.0//EN
CALSCALE:GREGORIAN
METHOD:PUBLISH
X-WR-CALNAME:Museo del Automóvil y la Moda de Málaga
X-ORIGINAL-URL:https://museoautomovilmoda.com
X-WR-CALDESC:Eventos para Museo del Automóvil y la Moda de Málaga
REFRESH-INTERVAL;VALUE=DURATION:PT1H
X-Robots-Tag:noindex
X-PUBLISHED-TTL:PT1H
BEGIN:VTIMEZONE
TZID:Europe/Madrid
BEGIN:DAYLIGHT
TZOFFSETFROM:+0100
TZOFFSETTO:+0200
TZNAME:CEST
DTSTART:20240331T010000
END:DAYLIGHT
BEGIN:STANDARD
TZOFFSETFROM:+0200
TZOFFSETTO:+0100
TZNAME:CET
DTSTART:20241027T010000
END:STANDARD
BEGIN:DAYLIGHT
TZOFFSETFROM:+0100
TZOFFSETTO:+0200
TZNAME:CEST
DTSTART:20250330T010000
END:DAYLIGHT
BEGIN:STANDARD
TZOFFSETFROM:+0200
TZOFFSETTO:+0100
TZNAME:CET
DTSTART:20251026T010000
END:STANDARD
BEGIN:DAYLIGHT
TZOFFSETFROM:+0100
TZOFFSETTO:+0200
TZNAME:CEST
DTSTART:20260329T010000
END:DAYLIGHT
BEGIN:STANDARD
TZOFFSETFROM:+0200
TZOFFSETTO:+0100
TZNAME:CET
DTSTART:20261025T010000
END:STANDARD
END:VTIMEZONE
BEGIN:VEVENT
DTSTART;TZID=Europe/Madrid:20251102T123000
DTEND;TZID=Europe/Madrid:20251102T130000
DTSTAMP:20260422T120328
CREATED:20250227T132503Z
LAST-MODIFIED:20250227T132505Z
UID:36426-1762086600-1762088400@museoautomovilmoda.com
SUMMARY:1\, 2\, 3 ¡Arrancamos!
DESCRIPTION:A las 12:30 de cada domingo se realizará la actividad “1\, 2\, 3 ¡Arrancamos!”\, en la que se arrancarán los motores de tres vehículos de la colección y se resolverá cualquier duda sobre estos modelos. \n\n\n\n\ncomprar entradas
URL:https://museoautomovilmoda.com/actividad/1-2-3-arrancamos-97/
ATTACH;FMTTYPE=image/jpeg:https://museoautomovilmoda.com/wp-content/uploads/2023/08/Aston-Martin.jpg
END:VEVENT
BEGIN:VEVENT
DTSTART;TZID=Europe/Madrid:20251108T110000
DTEND;TZID=Europe/Madrid:20251108T140000
DTSTAMP:20260422T120328
CREATED:20250916T121605Z
LAST-MODIFIED:20250919T084737Z
UID:39194-1762599600-1762610400@museoautomovilmoda.com
SUMMARY:Sábados Creativos (Taller de Arqueología y Egiptología)
DESCRIPTION:Todos los sábados\, los espacios expositivos y educativos del Museo del Automóvil y la Moda se convierten en punto de encuentro para los mas pequeños. ¡Cada sábado una actividad distinta! \n\n\n\nTodos los talleres de estos ‘Sábados Creativos’ están dirigidos a niños y niñas de todas las edades. Los participantes realizarán actividades relacionadas con una temática concreta: desde robótica a arquitectura\, pasando por edición de videojuegos\, cocina y arqueología. \n\n\n\nEn cada uno de los talleres se realizarán distintas actividades diseñadas específicamente para despertar la curiosidad intelectual de los pequeños y favorecer el desarrollo de su creatividad. \n\n\n\nActividades\n\n\n\nSÁBADO 4 DE OCTUBRE: Taller de Ciencia Creativa (4-12 años). \n\n\n\nSÁBADO 11 DE OCTUBRE: Taller de Robótica Educativa (6-16 años). \n\n\n\nSÁBADO 18 DE OCTUBRE: Taller de Arquitectura para niñ@s (4-12 años). \n\n\n\nSÁBADO 25 DE OCTUBRE: Taller de Halloween (4-12 años). \n\n\n\nSÁBADO 8 DE NOVIEMBRE: Taller de Arqueología y Egiptología (4-12 años). \n\n\n\nSÁBADO 15 DE NOVIEMBRE: Taller de Ilustración y Artes Plásticas (4-12 años). \n\n\n\nSÁBADO 22 DE NOVIEMBRE: Taller de Programación con Minecraft (6-16 años). \n\n\n\nSÁBADO 29 DE NOVIEMBRE: Taller de Ciencia Creativa (4-12 años). \n\n\n\nSÁBADO 13 DE DICIEMBRE: Taller de Arqueología y Egiptología (4-12 años). \n\n\n\nSÁBADO 20 DE DICIEMBRE: Taller de Programación con Roblox (6-16 años). \n\n\n\n \n\n\n\n \n\n\n\nDuración y precio\n\n\n\n3 horas – 18€ / taller \n\n\n\n \n\n\n\ncondiciones\n\n\n\n– Actividad sujeta a cancelación en caso de no cumplir con el mínimo requerido de asistentes. \n\n\n\n– El acceso al museo será 10 MINUTOS antes del inicio de la actividad \n\n\n\n– La contratación del taller solo permite el acceso a los participantes de este\, los acompañantes deberán esperar fuera del museo. Si desean acceder a las instalaciones o visitar la colección\, deberán adquirir una entrada. \n\n\n\n\nreservar plaza
URL:https://museoautomovilmoda.com/actividad/sabados-creativos-taller-de-arqueologia-y-egiptologia-10/
ATTACH;FMTTYPE=image/jpeg:https://museoautomovilmoda.com/wp-content/uploads/2025/09/CARTEL-MAM-EGIPTOLOGIA-8-11.jpg
END:VEVENT
BEGIN:VEVENT
DTSTART;TZID=Europe/Madrid:20251115T110000
DTEND;TZID=Europe/Madrid:20251115T140000
DTSTAMP:20260422T120328
CREATED:20250916T121704Z
LAST-MODIFIED:20250919T084330Z
UID:39196-1763204400-1763215200@museoautomovilmoda.com
SUMMARY:Sábados Creativos (Taller de Ilustración y Artes Plásticas)
DESCRIPTION:Todos los sábados\, los espacios expositivos y educativos del Museo del Automóvil y la Moda se convierten en punto de encuentro para los mas pequeños. ¡Cada sábado una actividad distinta! \n\n\n\nTodos los talleres de estos ‘Sábados Creativos’ están dirigidos a niños y niñas de todas las edades. Los participantes realizarán actividades relacionadas con una temática concreta: desde robótica a arquitectura\, pasando por edición de videojuegos\, cocina y arqueología. \n\n\n\nEn cada uno de los talleres se realizarán distintas actividades diseñadas específicamente para despertar la curiosidad intelectual de los pequeños y favorecer el desarrollo de su creatividad. \n\n\n\nActividades\n\n\n\nSÁBADO 4 DE OCTUBRE: Taller de Ciencia Creativa (4-12 años). \n\n\n\nSÁBADO 11 DE OCTUBRE: Taller de Robótica Educativa (6-16 años). \n\n\n\nSÁBADO 18 DE OCTUBRE: Taller de Arquitectura para niñ@s (4-12 años). \n\n\n\nSÁBADO 25 DE OCTUBRE: Taller de Halloween (4-12 años). \n\n\n\nSÁBADO 8 DE NOVIEMBRE: Taller de Arqueología y Egiptología (4-12 años). \n\n\n\nSÁBADO 15 DE NOVIEMBRE: Taller de Ilustración y Artes Plásticas (4-12 años). \n\n\n\nSÁBADO 22 DE NOVIEMBRE: Taller de Programación con Minecraft (6-16 años). \n\n\n\nSÁBADO 29 DE NOVIEMBRE: Taller de Ciencia Creativa (4-12 años). \n\n\n\nSÁBADO 13 DE DICIEMBRE: Taller de Arqueología y Egiptología (4-12 años). \n\n\n\nSÁBADO 20 DE DICIEMBRE: Taller de Programación con Roblox (6-16 años). \n\n\n\n \n\n\n\n \n\n\n\nDuración y precio\n\n\n\n3 horas – 18€ / taller \n\n\n\n \n\n\n\ncondiciones\n\n\n\n– Actividad sujeta a cancelación en caso de no cumplir con el mínimo requerido de asistentes. \n\n\n\n– El acceso al museo será 10 MINUTOS antes del inicio de la actividad \n\n\n\n– La contratación del taller solo permite el acceso a los participantes de este\, los acompañantes deberán esperar fuera del museo. Si desean acceder a las instalaciones o visitar la colección\, deberán adquirir una entrada. \n\n\n\n\nreservar plaza
URL:https://museoautomovilmoda.com/actividad/sabados-creativos-taller-de-pixel-art-para-videojuegos-5/
ATTACH;FMTTYPE=image/jpeg:https://museoautomovilmoda.com/wp-content/uploads/2025/09/CARTEL-MAM-ARTES-15-11.jpg
END:VEVENT
BEGIN:VEVENT
DTSTART;TZID=Europe/Madrid:20251116T123000
DTEND;TZID=Europe/Madrid:20251116T130000
DTSTAMP:20260422T120328
CREATED:20250227T132616Z
LAST-MODIFIED:20250227T132618Z
UID:36431-1763296200-1763298000@museoautomovilmoda.com
SUMMARY:1\, 2\, 3 ¡Arrancamos!
DESCRIPTION:A las 12:30 de cada domingo se realizará la actividad “1\, 2\, 3 ¡Arrancamos!”\, en la que se arrancarán los motores de tres vehículos de la colección y se resolverá cualquier duda sobre estos modelos. \n\n\n\n\ncomprar entradas
URL:https://museoautomovilmoda.com/actividad/1-2-3-arrancamos-99/
ATTACH;FMTTYPE=image/jpeg:https://museoautomovilmoda.com/wp-content/uploads/2023/08/Maga_159.jpg
END:VEVENT
BEGIN:VEVENT
DTSTART;TZID=Europe/Madrid:20251122T110000
DTEND;TZID=Europe/Madrid:20251122T140000
DTSTAMP:20260422T120328
CREATED:20250916T121806Z
LAST-MODIFIED:20250919T084833Z
UID:39198-1763809200-1763820000@museoautomovilmoda.com
SUMMARY:Sábados Creativos (Taller de Programación con Minecraft)
DESCRIPTION:Todos los sábados\, los espacios expositivos y educativos del Museo del Automóvil y la Moda se convierten en punto de encuentro para los mas pequeños. ¡Cada sábado una actividad distinta! \n\n\n\nTodos los talleres de estos ‘Sábados Creativos’ están dirigidos a niños y niñas de todas las edades. Los participantes realizarán actividades relacionadas con una temática concreta: desde robótica a arquitectura\, pasando por edición de videojuegos\, cocina y arqueología. \n\n\n\nEn cada uno de los talleres se realizarán distintas actividades diseñadas específicamente para despertar la curiosidad intelectual de los pequeños y favorecer el desarrollo de su creatividad. \n\n\n\nActividades\n\n\n\nSÁBADO 4 DE OCTUBRE: Taller de Ciencia Creativa (4-12 años). \n\n\n\nSÁBADO 11 DE OCTUBRE: Taller de Robótica Educativa (6-16 años). \n\n\n\nSÁBADO 18 DE OCTUBRE: Taller de Arquitectura para niñ@s (4-12 años). \n\n\n\nSÁBADO 25 DE OCTUBRE: Taller de Halloween (4-12 años). \n\n\n\nSÁBADO 8 DE NOVIEMBRE: Taller de Arqueología y Egiptología (4-12 años). \n\n\n\nSÁBADO 15 DE NOVIEMBRE: Taller de Ilustración y Artes Plásticas (4-12 años). \n\n\n\nSÁBADO 22 DE NOVIEMBRE: Taller de Programación con Minecraft (6-16 años). \n\n\n\nSÁBADO 29 DE NOVIEMBRE: Taller de Ciencia Creativa (4-12 años). \n\n\n\nSÁBADO 13 DE DICIEMBRE: Taller de Arqueología y Egiptología (4-12 años). \n\n\n\nSÁBADO 20 DE DICIEMBRE: Taller de Programación con Roblox (6-16 años). \n\n\n\n \n\n\n\n \n\n\n\nDuración y precio\n\n\n\n3 horas – 18€ / taller \n\n\n\n \n\n\n\ncondiciones\n\n\n\n– Actividad sujeta a cancelación en caso de no cumplir con el mínimo requerido de asistentes. \n\n\n\n– El acceso al museo será 10 MINUTOS antes del inicio de la actividad \n\n\n\n– La contratación del taller solo permite el acceso a los participantes de este\, los acompañantes deberán esperar fuera del museo. Si desean acceder a las instalaciones o visitar la colección\, deberán adquirir una entrada. \n\n\n\n\nreservar plaza
URL:https://museoautomovilmoda.com/actividad/sabados-creativos-taller-de-programacion-con-minecraft-6/
ATTACH;FMTTYPE=image/jpeg:https://museoautomovilmoda.com/wp-content/uploads/2025/09/CARTEL-MAM-MINECRAFT-22-11.jpg
END:VEVENT
BEGIN:VEVENT
DTSTART;TZID=Europe/Madrid:20251123T123000
DTEND;TZID=Europe/Madrid:20251123T130000
DTSTAMP:20260422T120328
CREATED:20250227T132650Z
LAST-MODIFIED:20250227T132652Z
UID:36432-1763901000-1763902800@museoautomovilmoda.com
SUMMARY:1\, 2\, 3 ¡Arrancamos!
DESCRIPTION:A las 12:30 de cada domingo se realizará la actividad “1\, 2\, 3 ¡Arrancamos!”\, en la que se arrancarán los motores de tres vehículos de la colección y se resolverá cualquier duda sobre estos modelos. \n\n\n\n\ncomprar entradas
URL:https://museoautomovilmoda.com/actividad/1-2-3-arrancamos-100/
ATTACH;FMTTYPE=image/jpeg:https://museoautomovilmoda.com/wp-content/uploads/2023/08/Aston-Martin.jpg
END:VEVENT
BEGIN:VEVENT
DTSTART;TZID=Europe/Madrid:20251129T110000
DTEND;TZID=Europe/Madrid:20251129T140000
DTSTAMP:20260422T120328
CREATED:20250916T121912Z
LAST-MODIFIED:20250919T084902Z
UID:39200-1764414000-1764424800@museoautomovilmoda.com
SUMMARY:Sábados Creativos (Taller de Ciencia Creativa)
DESCRIPTION:Todos los sábados\, los espacios expositivos y educativos del Museo del Automóvil y la Moda se convierten en punto de encuentro para los mas pequeños. ¡Cada sábado una actividad distinta! \n\n\n\nTodos los talleres de estos ‘Sábados Creativos’ están dirigidos a niños y niñas de todas las edades. Los participantes realizarán actividades relacionadas con una temática concreta: desde robótica a arquitectura\, pasando por edición de videojuegos\, cocina y arqueología. \n\n\n\nEn cada uno de los talleres se realizarán distintas actividades diseñadas específicamente para despertar la curiosidad intelectual de los pequeños y favorecer el desarrollo de su creatividad. \n\n\n\nActividades\n\n\n\nSÁBADO 4 DE OCTUBRE: Taller de Ciencia Creativa (4-12 años). \n\n\n\nSÁBADO 11 DE OCTUBRE: Taller de Robótica Educativa (6-16 años). \n\n\n\nSÁBADO 18 DE OCTUBRE: Taller de Arquitectura para niñ@s (4-12 años). \n\n\n\nSÁBADO 25 DE OCTUBRE: Taller de Halloween (4-12 años). \n\n\n\nSÁBADO 8 DE NOVIEMBRE: Taller de Arqueología y Egiptología (4-12 años). \n\n\n\nSÁBADO 15 DE NOVIEMBRE: Taller de Ilustración y Artes Plásticas (4-12 años). \n\n\n\nSÁBADO 22 DE NOVIEMBRE: Taller de Programación con Minecraft (6-16 años). \n\n\n\nSÁBADO 29 DE NOVIEMBRE: Taller de Ciencia Creativa (4-12 años). \n\n\n\nSÁBADO 13 DE DICIEMBRE: Taller de Arqueología y Egiptología (4-12 años). \n\n\n\nSÁBADO 20 DE DICIEMBRE: Taller de Programación con Roblox (6-16 años). \n\n\n\n \n\n\n\n \n\n\n\nDuración y precio\n\n\n\n3 horas – 18€ / taller \n\n\n\n \n\n\n\ncondiciones\n\n\n\n– Actividad sujeta a cancelación en caso de no cumplir con el mínimo requerido de asistentes. \n\n\n\n– El acceso al museo será 10 MINUTOS antes del inicio de la actividad \n\n\n\n– La contratación del taller solo permite el acceso a los participantes de este\, los acompañantes deberán esperar fuera del museo. Si desean acceder a las instalaciones o visitar la colección\, deberán adquirir una entrada. \n\n\n\n\nreservar plaza
URL:https://museoautomovilmoda.com/actividad/sabados-creativos-taller-de-ciencia-creativa-8/
ATTACH;FMTTYPE=image/jpeg:https://museoautomovilmoda.com/wp-content/uploads/2025/09/CARTEL-MAM-CIENCIA-29-11.jpg
END:VEVENT
END:VCALENDAR