BEGIN:VCALENDAR
VERSION:2.0
PRODID:-//Museo del Automóvil y la Moda de Málaga - ECPv6.15.15//NONSGML v1.0//EN
CALSCALE:GREGORIAN
METHOD:PUBLISH
X-ORIGINAL-URL:https://museoautomovilmoda.com
X-WR-CALDESC:Eventos para Museo del Automóvil y la Moda de Málaga
REFRESH-INTERVAL;VALUE=DURATION:PT1H
X-Robots-Tag:noindex
X-PUBLISHED-TTL:PT1H
BEGIN:VTIMEZONE
TZID:Europe/Madrid
BEGIN:DAYLIGHT
TZOFFSETFROM:+0100
TZOFFSETTO:+0200
TZNAME:CEST
DTSTART:20240331T010000
END:DAYLIGHT
BEGIN:STANDARD
TZOFFSETFROM:+0200
TZOFFSETTO:+0100
TZNAME:CET
DTSTART:20241027T010000
END:STANDARD
BEGIN:DAYLIGHT
TZOFFSETFROM:+0100
TZOFFSETTO:+0200
TZNAME:CEST
DTSTART:20250330T010000
END:DAYLIGHT
BEGIN:STANDARD
TZOFFSETFROM:+0200
TZOFFSETTO:+0100
TZNAME:CET
DTSTART:20251026T010000
END:STANDARD
BEGIN:DAYLIGHT
TZOFFSETFROM:+0100
TZOFFSETTO:+0200
TZNAME:CEST
DTSTART:20260329T010000
END:DAYLIGHT
BEGIN:STANDARD
TZOFFSETFROM:+0200
TZOFFSETTO:+0100
TZNAME:CET
DTSTART:20261025T010000
END:STANDARD
BEGIN:DAYLIGHT
TZOFFSETFROM:+0100
TZOFFSETTO:+0200
TZNAME:CEST
DTSTART:20270328T010000
END:DAYLIGHT
BEGIN:STANDARD
TZOFFSETFROM:+0200
TZOFFSETTO:+0100
TZNAME:CET
DTSTART:20271031T010000
END:STANDARD
END:VTIMEZONE
BEGIN:VEVENT
DTSTART;TZID=Europe/Madrid:20251220T100000
DTEND;TZID=Europe/Madrid:20260105T190000
DTSTAMP:20260420T124807
CREATED:20251204T125215Z
LAST-MODIFIED:20251211T091356Z
UID:40173-1766224800-1767639600@museoautomovilmoda.com
SUMMARY:Exposición temporal "La Ruta del Cabrio"
DESCRIPTION:Exposición Temporal: La Ruta del Cabrio \n\n\n\nDel 20 de diciembre de 2025 al 5 de enero de 2026 \n\n\n\nEl Museo del Automóvil y la Moda de Málaga presenta ‘La Ruta del Cabrio’\, una exposición temporal que rinde homenaje a algunos de los descapotables más emblemáticos de la historia del automóvil. Un viaje visual único que combina elegancia\, libertad y espíritu viajero a través de piezas legendarias que marcaron una época. \n\n\n\nEn esta muestra podrás descubrir una selección exclusiva de cabrios icónicos\, vehículos que hicieron soñar a generaciones y que simbolizan como ningún otro la emoción de conducir a cielo abierto. Modelos deportivos\, clásicos americanos y europeos conviven en un escenario vibrante que celebra el diseño\, la potencia y la estética atemporal. \n\n\n\nA través de una puesta en escena llena de color y movimiento\, La Ruta del Cabrio invita al visitante a sumergirse en la cultura del automóvil descapotable y a revivir la magia de las grandes rutas al volante. Una experiencia ideal para amantes del motor\, curiosos y familias que quieran disfrutar juntas de una propuesta diferente estas fiestas. \n\n\n\nTe esperamos en el Museo del Automóvil y la Moda de Málaga para descubrir esta exposición única y celebrar con nosotros la belleza del automóvil en su versión más libre y luminosa. \n\n\n\n\n\n\n\n\nClick Here
URL:https://museoautomovilmoda.com/actividad/exposicion-la-ruta-del-cabrio/
ATTACH;FMTTYPE=image/jpeg:https://museoautomovilmoda.com/wp-content/uploads/2025/12/Cartel_LaRutadelCabrio_Mesa-de-trabajo-1-scaled.jpg
END:VEVENT
BEGIN:VEVENT
DTSTART;TZID=Europe/Madrid:20251222T100000
DTEND;TZID=Europe/Madrid:20260105T140000
DTSTAMP:20260420T124807
CREATED:20251203T121505Z
LAST-MODIFIED:20251203T122731Z
UID:40160-1766397600-1767621600@museoautomovilmoda.com
SUMMARY:Campamento de Navidad
DESCRIPTION:CAMPAMENTO DE NAVIDAD 25/26 EN EL MAM: \n\n\n\nEstas Navidades\, el Museo del Automóvil y la Moda de Málaga vuelve a abrir sus puertas a la creatividad\, el aprendizaje y la diversión con su esperado Campamento de Navidad\, dirigido a niños y niñas de 4 a 12 años. \n\n\n\nDel 22 de diciembre de 2025 al 5 de enero de 2026\, los más pequeños disfrutarán de un programa repleto de actividades originales\, educativas y diseñadas para fomentar la imaginación en un entorno cultural único. \n\n\n\nUN CAMPAMENTO DIFERENTE CADA DÍA: \n\n\n\nCada jornada se centra en una temática distinta\, para que los participantes descubran nuevas disciplinas y desarrollen sus habilidades de manera dinámica y divertida. Arquitectura\, robótica\, egiptología\, Minecraft\, ciencia\, ingeniería\, artes y muchas más propuestas formarán parte de un calendario pensado para despertar vocaciones y potenciar la creatividad. \n\n\n\nHORARIO Y FUNCIONAMIENTO: \n\n\n\nEl campamento se desarrolla de lunes a viernes\, en horario de 10:00 a 14:00 horas. \n\n\n\nLos talleres están impartidos por Cubo Inquieto – Talleres Creativos\, especialistas en actividades educativas para niños. \n\n\n\nCAMPAMENTO DE NAVIDAD: \n\n\n\nLunes 22/12: Taller de Arquitectura \n\n\n\nMartes 23/12: Taller de Robótica \n\n\n\nMiércoles 24/12: Taller de Egiptología \n\n\n\nViernes 26/12: Taller de Programación de Videojuegos con Minecarft \n\n\n\nLunes 29/12: Taller de Ciencia \n\n\n\nMartes 30/12: Taller de Ingeniería \n\n\n\nMiércoles 31/12: Taller de Programación de Videojuegos con Roblox \n\n\n\nViernes 02/01: Taller de Egiptología \n\n\n\nLunes 05/01: Taller de Artes \n\n\n\nPRECIO: \n\n\n\n25 € por día \n\n\n\nLos participantes pueden asistir a días sueltos o combinar varios para disfrutar de una experiencia más completa. \n\n\n\nINSCRIPCIONES: \n\n\n\nPara reservar plaza o solicitar más información: \n\n\n\n +34 951 13 70 01 \n\n\n\n También puedes inscribirte a través del código QR disponible en nuestra cartelería oficial. \n\n\n\n\n\n\n\n\nrESERVAR
URL:https://museoautomovilmoda.com/actividad/campamento-de-navidad/
ATTACH;FMTTYPE=image/jpeg:https://museoautomovilmoda.com/wp-content/uploads/2025/12/CARTEL-MUSEO-AUTOMOVIL-CAMPAMENTO-DE-NAVIDAD-25-26-2.jpg
END:VEVENT
BEGIN:VEVENT
DTSTART;TZID=Europe/Madrid:20260102T120000
DTEND;TZID=Europe/Madrid:20260102T140000
DTSTAMP:20260420T124807
CREATED:20251229T124107Z
LAST-MODIFIED:20251229T124306Z
UID:40402-1767355200-1767362400@museoautomovilmoda.com
SUMMARY:Visita de Sus Majestades los Reyes Magos de Oriente al MAM
DESCRIPTION:El Museo del Automóvil y la Moda de Málaga (MAM) recibe un año más la visita de Sus Majestades los Reyes Magos de Oriente\, en una jornada muy especial dirigida a los niños y niñas de Málaga y pensada para disfrutar en familia. \n\n\n\nMelchor\, Gaspar y Baltasar realizarán su llegada a la plaza de Tabacalera a bordo de tres vehículos históricos pertenecientes a la colección del Museo\, ofreciendo una entrada única que une la magia de la Navidad con el patrimonio automovilístico y cultural de la ciudad. \n\n\n\nDurante el evento\, los más pequeños podrán entregar personalmente sus cartas a los Reyes Magos\, compartir sus deseos y vivir un momento inolvidable en un entorno emblemático. \n\n\n\n\n\n\n\nReyes Magos y compromiso social\n\n\n\nEn esta edición\, los Reyes Magos estarán representados por personas vinculadas al compromiso social del evento: \n\n\n\nMelchor y Gaspar\, encarnados por Diego Moreno y Pedro Báez\, miembros del equipo del MAM. \n\n\n\nEl Rey Baltasar\, interpretado por Mohamed Sima\, usuario de CEAR Andalucía\, entidad dedicada a la defensa de los derechos de las personas refugiadas y migrantes. \n\n\n\nEsta elección pone en valor la diversidad\, la inclusión y la participación activa de la comunidad. \n\n\n\n\n\n\n\nActividades destacadas\n\n\n\nEntrega de cartas a Sus Majestades. \n\n\n\nVillancicos navideños a cargo de la pastoral de Juan Guerrero. \n\n\n\nPresencia de la Legión 501\, con personajes invitados para el público infantil. \n\n\n\n\n\n\n\nEntrega solidaria de juguetes\n\n\n\nEl evento contará con un importante componente solidario. Sus Majestades realizarán la entrega oficial de los juguetes recaudados a la asociación Hogar Abierto\, que desarrolla una destacada labor social apoyando a menores y familias en situación de vulnerabilidad. \n\n\n\n\n\n\n\nEvento familiar y abierto al público\n\n\n\nEsta iniciativa\, organizada por el Museo del Automóvil y la Moda de Málaga\, refuerza su vocación como espacio cultural abierto a la ciudadanía\, combinando tradición\, cultura y responsabilidad social\, y consolidándose como un referente en la programación familiar durante las fechas navideñas.
URL:https://museoautomovilmoda.com/actividad/40402/
ATTACH;FMTTYPE=image/jpeg:https://museoautomovilmoda.com/wp-content/uploads/2025/12/Cartel_VisitaReyesMagos_MAM-1-scaled.jpg
END:VEVENT
BEGIN:VEVENT
DTSTART;TZID=Europe/Madrid:20260110T110000
DTEND;TZID=Europe/Madrid:20260110T140000
DTSTAMP:20260420T124807
CREATED:20251230T113339Z
LAST-MODIFIED:20251230T113342Z
UID:40370-1768042800-1768053600@museoautomovilmoda.com
SUMMARY:Sábados Creativos (Taller de Programación con Minecraft)
DESCRIPTION:Todos los sábados\, los espacios expositivos y educativos del Museo del Automóvil y la Moda se convierten en punto de encuentro para los mas pequeños. ¡Cada sábado una actividad distinta! \n\n\n\nTodos los talleres de estos ‘Sábados Creativos’ están dirigidos a niños y niñas de todas las edades. Los participantes realizarán actividades relacionadas con una temática concreta: desde robótica a arquitectura\, pasando por edición de videojuegos\, cocina y arqueología. \n\n\n\nEn cada uno de los talleres se realizarán distintas actividades diseñadas específicamente para despertar la curiosidad intelectual de los pequeños y favorecer el desarrollo de su creatividad. \n\n\n\nActividades\n\n\n\nEnero:\n\n\n\n– Sábado 10: Taller de Programación con Minecraft (6-16 años) \n\n\n\n– Sábado 17: Taller de Ciencia Creativa (4-12 años) \n\n\n\n– Sábado 24: Taller de Arqueología y Egiptología (4-12 años) \n\n\n\n– Sábado 31: Taller de Arquitectura para niñ@s (4-12 años) \n\n\n\nFebrero:\n\n\n\n– Sábado 07: Taller de Programación con Roblox (6-16 años) \n\n\n\n– Sábado 14: Taller de Ciencia Creativa (4-12 años) \n\n\n\n– Sábado 21: Taller de Programación con Minecraft (6-16 años) \n\n\n\nMarzo:\n\n\n\n– Sábado 07: Taller de Arquitectura para niñ@s (4-12 años) \n\n\n\n– Sábado 14: Taller de Programación con Roblox (6-16 años) \n\n\n\n– Sábado 21: Taller de Arqueología y Egiptología (4-12 años) \n\n\n\n– Sábado 28: Taller de Robótica Educativa (6-16 años) \n\n\n\n \n\n\n\n \n\n\n\nDuración y precio\n\n\n\n3 horas – 18€ / taller \n\n\n\n \n\n\n\ncondiciones\n\n\n\n– Actividad sujeta a cancelación en caso de no cumplir con el mínimo requerido de asistentes. \n\n\n\n– El acceso al museo será 10 MINUTOS antes del inicio de la actividad \n\n\n\n– La contratación del taller solo permite el acceso a los participantes de este\, los acompañantes deberán esperar fuera del museo. Si desean acceder a las instalaciones o visitar la colección\, deberán adquirir una entrada. \n\n\n\n\nreservar plaza
URL:https://museoautomovilmoda.com/actividad/sabados-creativos-taller-de-programacion-con-minecraft-7/
ATTACH;FMTTYPE=image/jpeg:https://museoautomovilmoda.com/wp-content/uploads/2025/12/CARTEL-MAM-MINECRAFT-10-01-26.jpg
END:VEVENT
BEGIN:VEVENT
DTSTART;TZID=Europe/Madrid:20260117T110000
DTEND;TZID=Europe/Madrid:20260117T140000
DTSTAMP:20260420T124807
CREATED:20251230T113431Z
LAST-MODIFIED:20251230T113432Z
UID:40373-1768647600-1768658400@museoautomovilmoda.com
SUMMARY:Sábados Creativos (Taller de Ciencia Creativa)
DESCRIPTION:Todos los sábados\, los espacios expositivos y educativos del Museo del Automóvil y la Moda se convierten en punto de encuentro para los mas pequeños. ¡Cada sábado una actividad distinta! \n\n\n\nTodos los talleres de estos ‘Sábados Creativos’ están dirigidos a niños y niñas de todas las edades. Los participantes realizarán actividades relacionadas con una temática concreta: desde robótica a arquitectura\, pasando por edición de videojuegos\, cocina y arqueología. \n\n\n\nEn cada uno de los talleres se realizarán distintas actividades diseñadas específicamente para despertar la curiosidad intelectual de los pequeños y favorecer el desarrollo de su creatividad. \n\n\n\nActividades\n\n\n\nEnero:\n\n\n\n– Sábado 10: Taller de Programación con Minecraft (6-16 años) \n\n\n\n– Sábado 17: Taller de Ciencia Creativa (4-12 años) \n\n\n\n– Sábado 24: Taller de Arqueología y Egiptología (4-12 años) \n\n\n\n– Sábado 31: Taller de Arquitectura para niñ@s (4-12 años) \n\n\n\nFebrero:\n\n\n\n– Sábado 07: Taller de Programación con Roblox (6-16 años) \n\n\n\n– Sábado 14: Taller de Ciencia Creativa (4-12 años) \n\n\n\n– Sábado 21: Taller de Programación con Minecraft (6-16 años) \n\n\n\nMarzo:\n\n\n\n– Sábado 07: Taller de Arquitectura para niñ@s (4-12 años) \n\n\n\n– Sábado 14: Taller de Programación con Roblox (6-16 años) \n\n\n\n– Sábado 21: Taller de Arqueología y Egiptología (4-12 años) \n\n\n\n– Sábado 28: Taller de Robótica Educativa (6-16 años) \n\n\n\n \n\n\n\n \n\n\n\nDuración y precio\n\n\n\n3 horas – 18€ / taller \n\n\n\n \n\n\n\ncondiciones\n\n\n\n– Actividad sujeta a cancelación en caso de no cumplir con el mínimo requerido de asistentes. \n\n\n\n– El acceso al museo será 10 MINUTOS antes del inicio de la actividad \n\n\n\n– La contratación del taller solo permite el acceso a los participantes de este\, los acompañantes deberán esperar fuera del museo. Si desean acceder a las instalaciones o visitar la colección\, deberán adquirir una entrada. \n\n\n\n\nreservar plaza
URL:https://museoautomovilmoda.com/actividad/sabados-creativos-taller-de-ciencia-creativa-9/
ATTACH;FMTTYPE=image/jpeg:https://museoautomovilmoda.com/wp-content/uploads/2025/12/CARTEL-MAM-CIENCIA-17-01-26.jpg
END:VEVENT
BEGIN:VEVENT
DTSTART;TZID=Europe/Madrid:20260123T000000
DTEND;TZID=Europe/Madrid:20260125T235959
DTSTAMP:20260420T124807
CREATED:20260112T111424Z
LAST-MODIFIED:20260112T111602Z
UID:40465-1769126400-1769385599@museoautomovilmoda.com
SUMMARY:Retro Málaga 2026
DESCRIPTION:Retro Málaga 2026 – Salón del Vehículo Clásico\, de Época y de Colección \n\n\n\nFechas: 23\, 24 y 25 de enero de 2026Lugar: FYCMA – Palacio de Ferias y Congresos de Málaga \n\n\n\nRetro Málaga regresa en 2026 como la gran cita imprescindible para los amantes del vehículo clásico\, de época y de colección del sur de España. Durante tres días\, el Palacio de Ferias y Congresos de Málaga (FYCMA) acogerá el salón retro de referencia en Andalucía\, reuniendo a aficionados\, coleccionistas y profesionales del sector. \n\n\n\nEl evento contará con una amplia oferta de exposiciones de coches y motocicletas clásicas\, stands de accesorios\, repuestos y artículos de colección\, así como zonas de compra-venta y otros contenidos especializados. \n\n\n\nEl Museo del Automóvil y la Moda de Málaga volverá a estar presente en la feria con una selección especial de vehículos que mostrará la riqueza y variedad de su colección. La muestra reunirá piezas emblemáticas como un Talbot t23\, Auburn 851 SC Boattail o un Jaguar MKV \n\n\n\nAdemás\, como es tradición\, los visitantes podrán adquirir una entrada combinada que permite disfrutar tanto del Salón de clásicos como del Museo. \n\n\n\nEntrada combinada Retro Málaga + Museo del Automóvil y la Moda de Málaga\n\n\n\nPrecio: 16 € \n\n\n\nIncluye:  \n\n\n\n-Un acceso a Retro Málaga válido para el día seleccionado en el momento de la compra. \n\n\n\n-Un acceso al Museo del Automóvil y la Moda de Málaga\, válido hasta el 31 de diciembre de 2026. \n\n\n\nUna oportunidad perfecta para disfrutar del mejor patrimonio automovilístico clásico y completar la experiencia con la visita al Museo. \n\n\n\nHORARIOS: \n\n\n\nViernes 23: de 16:00 a 20:00 h. \n\n\n\nSábado 24: de 10:00 a 21:00 h. \n\n\n\nDomingo 25: de 10:00 a 19:00 h. \n\n\n\nUbicación del evento:FYCMA – Palacio de Ferias y Congresos de MálagaAv. de José Ortega y Gasset\, 201Cruz de Humilladero\, 29006 Málaga – España
URL:https://museoautomovilmoda.com/actividad/retro-malaga-2026/
ATTACH;FMTTYPE=image/jpeg:https://museoautomovilmoda.com/wp-content/uploads/2026/01/RM2026-A4-3mm-HiRes-scaled.jpg
END:VEVENT
BEGIN:VEVENT
DTSTART;TZID=Europe/Madrid:20260124T110000
DTEND;TZID=Europe/Madrid:20260124T140000
DTSTAMP:20260420T124807
CREATED:20251230T113704Z
LAST-MODIFIED:20251230T113706Z
UID:40375-1769252400-1769263200@museoautomovilmoda.com
SUMMARY:Sábados Creativos (Taller de Arqueología y Egiptología)
DESCRIPTION:Todos los sábados\, los espacios expositivos y educativos del Museo del Automóvil y la Moda se convierten en punto de encuentro para los mas pequeños. ¡Cada sábado una actividad distinta! \n\n\n\nTodos los talleres de estos ‘Sábados Creativos’ están dirigidos a niños y niñas de todas las edades. Los participantes realizarán actividades relacionadas con una temática concreta: desde robótica a arquitectura\, pasando por edición de videojuegos\, cocina y arqueología. \n\n\n\nEn cada uno de los talleres se realizarán distintas actividades diseñadas específicamente para despertar la curiosidad intelectual de los pequeños y favorecer el desarrollo de su creatividad. \n\n\n\nActividades\n\n\n\nEnero:\n\n\n\n– Sábado 10: Taller de Programación con Minecraft (6-16 años) \n\n\n\n– Sábado 17: Taller de Ciencia Creativa (4-12 años) \n\n\n\n– Sábado 24: Taller de Arqueología y Egiptología (4-12 años) \n\n\n\n– Sábado 31: Taller de Arquitectura para niñ@s (4-12 años) \n\n\n\nFebrero:\n\n\n\n– Sábado 07: Taller de Programación con Roblox (6-16 años) \n\n\n\n– Sábado 14: Taller de Ciencia Creativa (4-12 años) \n\n\n\n– Sábado 21: Taller de Programación con Minecraft (6-16 años) \n\n\n\nMarzo:\n\n\n\n– Sábado 07: Taller de Arquitectura para niñ@s (4-12 años) \n\n\n\n– Sábado 14: Taller de Programación con Roblox (6-16 años) \n\n\n\n– Sábado 21: Taller de Arqueología y Egiptología (4-12 años) \n\n\n\n– Sábado 28: Taller de Robótica Educativa (6-16 años) \n\n\n\n \n\n\n\n \n\n\n\nDuración y precio\n\n\n\n3 horas – 18€ / taller \n\n\n\n \n\n\n\ncondiciones\n\n\n\n– Actividad sujeta a cancelación en caso de no cumplir con el mínimo requerido de asistentes. \n\n\n\n– El acceso al museo será 10 MINUTOS antes del inicio de la actividad \n\n\n\n– La contratación del taller solo permite el acceso a los participantes de este\, los acompañantes deberán esperar fuera del museo. Si desean acceder a las instalaciones o visitar la colección\, deberán adquirir una entrada. \n\n\n\n\nreservar plaza
URL:https://museoautomovilmoda.com/actividad/sabados-creativos-taller-de-arqueologia-y-egiptologia-12/
ATTACH;FMTTYPE=image/jpeg:https://museoautomovilmoda.com/wp-content/uploads/2025/12/CARTEL-MAM-EGIPTOLOGIA-24-01-26.jpg
END:VEVENT
BEGIN:VEVENT
DTSTART;TZID=Europe/Madrid:20260131T110000
DTEND;TZID=Europe/Madrid:20260131T140000
DTSTAMP:20260420T124807
CREATED:20251230T113748Z
LAST-MODIFIED:20251230T113750Z
UID:40377-1769857200-1769868000@museoautomovilmoda.com
SUMMARY:Sábados Creativos (Taller de Arquitectura para niñ@s)
DESCRIPTION:Todos los sábados\, los espacios expositivos y educativos del Museo del Automóvil y la Moda se convierten en punto de encuentro para los mas pequeños. ¡Cada sábado una actividad distinta! \n\n\n\nTodos los talleres de estos ‘Sábados Creativos’ están dirigidos a niños y niñas de todas las edades. Los participantes realizarán actividades relacionadas con una temática concreta: desde robótica a arquitectura\, pasando por edición de videojuegos\, cocina y arqueología. \n\n\n\nEn cada uno de los talleres se realizarán distintas actividades diseñadas específicamente para despertar la curiosidad intelectual de los pequeños y favorecer el desarrollo de su creatividad. \n\n\n\nActividades\n\n\n\nEnero:\n\n\n\n– Sábado 10: Taller de Programación con Minecraft (6-16 años) \n\n\n\n– Sábado 17: Taller de Ciencia Creativa (4-12 años) \n\n\n\n– Sábado 24: Taller de Arqueología y Egiptología (4-12 años) \n\n\n\n– Sábado 31: Taller de Arquitectura para niñ@s (4-12 años) \n\n\n\nFebrero:\n\n\n\n– Sábado 07: Taller de Programación con Roblox (6-16 años) \n\n\n\n– Sábado 14: Taller de Ciencia Creativa (4-12 años) \n\n\n\n– Sábado 21: Taller de Programación con Minecraft (6-16 años) \n\n\n\nMarzo:\n\n\n\n– Sábado 07: Taller de Arquitectura para niñ@s (4-12 años) \n\n\n\n– Sábado 14: Taller de Programación con Roblox (6-16 años) \n\n\n\n– Sábado 21: Taller de Arqueología y Egiptología (4-12 años) \n\n\n\n– Sábado 28: Taller de Robótica Educativa (6-16 años) \n\n\n\n \n\n\n\n \n\n\n\nDuración y precio\n\n\n\n3 horas – 18€ / taller \n\n\n\n \n\n\n\ncondiciones\n\n\n\n– Actividad sujeta a cancelación en caso de no cumplir con el mínimo requerido de asistentes. \n\n\n\n– El acceso al museo será 10 MINUTOS antes del inicio de la actividad \n\n\n\n– La contratación del taller solo permite el acceso a los participantes de este\, los acompañantes deberán esperar fuera del museo. Si desean acceder a las instalaciones o visitar la colección\, deberán adquirir una entrada. \n\n\n\n\nreservar plaza
URL:https://museoautomovilmoda.com/actividad/sabados-creativos-taller-de-arquitectura-para-nins-7/
ATTACH;FMTTYPE=image/jpeg:https://museoautomovilmoda.com/wp-content/uploads/2025/12/CARTEL-MAM-ARQUITECTURA-31-01-26.jpg
END:VEVENT
END:VCALENDAR