BEGIN:VCALENDAR
VERSION:2.0
PRODID:-//Museo del Automóvil y la Moda de Málaga - ECPv6.15.15//NONSGML v1.0//EN
CALSCALE:GREGORIAN
METHOD:PUBLISH
X-WR-CALNAME:Museo del Automóvil y la Moda de Málaga
X-ORIGINAL-URL:https://museoautomovilmoda.com
X-WR-CALDESC:Eventos para Museo del Automóvil y la Moda de Málaga
REFRESH-INTERVAL;VALUE=DURATION:PT1H
X-Robots-Tag:noindex
X-PUBLISHED-TTL:PT1H
BEGIN:VTIMEZONE
TZID:Europe/Madrid
BEGIN:DAYLIGHT
TZOFFSETFROM:+0100
TZOFFSETTO:+0200
TZNAME:CEST
DTSTART:20250330T010000
END:DAYLIGHT
BEGIN:STANDARD
TZOFFSETFROM:+0200
TZOFFSETTO:+0100
TZNAME:CET
DTSTART:20251026T010000
END:STANDARD
BEGIN:DAYLIGHT
TZOFFSETFROM:+0100
TZOFFSETTO:+0200
TZNAME:CEST
DTSTART:20260329T010000
END:DAYLIGHT
BEGIN:STANDARD
TZOFFSETFROM:+0200
TZOFFSETTO:+0100
TZNAME:CET
DTSTART:20261025T010000
END:STANDARD
BEGIN:DAYLIGHT
TZOFFSETFROM:+0100
TZOFFSETTO:+0200
TZNAME:CEST
DTSTART:20270328T010000
END:DAYLIGHT
BEGIN:STANDARD
TZOFFSETFROM:+0200
TZOFFSETTO:+0100
TZNAME:CET
DTSTART:20271031T010000
END:STANDARD
END:VTIMEZONE
BEGIN:VEVENT
DTSTART;TZID=Europe/Madrid:20260223T100000
DTEND;TZID=Europe/Madrid:20260326T190000
DTSTAMP:20260420T102525
CREATED:20260223T113233Z
LAST-MODIFIED:20260317T085722Z
UID:40836-1771840800-1774551600@museoautomovilmoda.com
SUMMARY:Exposición Temporal: Historia sobre dos Ruedas
DESCRIPTION:Sumérgete en Historia sobre dos Ruedas\, una exposición temporal que recorre la evolución histórica\, técnica y cultural de las motocicletas de competición. Descubre modelos emblemáticos\, la evolución del diseño y la ingeniería\, y conoce los pilotos que marcaron la historia de las motos gracias a los modelos cedidos por EMA Competición\, con sedes en Málaga y Madrid. \n\n\n\nFechas: Del 23 de febrero al 26 de marzoLugar: Museo del Automóvil y la Moda de MálagaHorario: 10:00h – 14:30h / 16:00h – 19:00 \n\n\n\nIncluido con la entrada al Museo \n\n\n\nNo te pierdas esta oportunidad de vivir una experiencia única que combina deporte\, tecnología y cultura sobre dos ruedas.
URL:https://museoautomovilmoda.com/actividad/40836/
ATTACH;FMTTYPE=image/png:https://museoautomovilmoda.com/wp-content/uploads/2026/02/CARTEL-MUSEO-e1773737823317.png
END:VEVENT
BEGIN:VEVENT
DTSTART;TZID=Europe/Madrid:20260307T110000
DTEND;TZID=Europe/Madrid:20260307T140000
DTSTAMP:20260420T102525
CREATED:20251230T114118Z
LAST-MODIFIED:20251230T114121Z
UID:40385-1772881200-1772892000@museoautomovilmoda.com
SUMMARY:Sábados Creativos (Taller de Arquitectura para niñ@s)
DESCRIPTION:Todos los sábados\, los espacios expositivos y educativos del Museo del Automóvil y la Moda se convierten en punto de encuentro para los mas pequeños. ¡Cada sábado una actividad distinta! \n\n\n\nTodos los talleres de estos ‘Sábados Creativos’ están dirigidos a niños y niñas de todas las edades. Los participantes realizarán actividades relacionadas con una temática concreta: desde robótica a arquitectura\, pasando por edición de videojuegos\, cocina y arqueología. \n\n\n\nEn cada uno de los talleres se realizarán distintas actividades diseñadas específicamente para despertar la curiosidad intelectual de los pequeños y favorecer el desarrollo de su creatividad. \n\n\n\nActividades\n\n\n\nEnero:\n\n\n\n– Sábado 10: Taller de Programación con Minecraft (6-16 años) \n\n\n\n– Sábado 17: Taller de Ciencia Creativa (4-12 años) \n\n\n\n– Sábado 24: Taller de Arqueología y Egiptología (4-12 años) \n\n\n\n– Sábado 31: Taller de Arquitectura para niñ@s (4-12 años) \n\n\n\nFebrero:\n\n\n\n– Sábado 07: Taller de Programación con Roblox (6-16 años) \n\n\n\n– Sábado 14: Taller de Ciencia Creativa (4-12 años) \n\n\n\n– Sábado 21: Taller de Programación con Minecraft (6-16 años) \n\n\n\nMarzo:\n\n\n\n– Sábado 07: Taller de Arquitectura para niñ@s (4-12 años) \n\n\n\n– Sábado 14: Taller de Programación con Roblox (6-16 años) \n\n\n\n– Sábado 21: Taller de Arqueología y Egiptología (4-12 años) \n\n\n\n– Sábado 28: Taller de Robótica Educativa (6-16 años) \n\n\n\n \n\n\n\n \n\n\n\nDuración y precio\n\n\n\n3 horas – 18€ / taller \n\n\n\n \n\n\n\ncondiciones\n\n\n\n– Actividad sujeta a cancelación en caso de no cumplir con el mínimo requerido de asistentes. \n\n\n\n– El acceso al museo será 10 MINUTOS antes del inicio de la actividad \n\n\n\n– La contratación del taller solo permite el acceso a los participantes de este\, los acompañantes deberán esperar fuera del museo. Si desean acceder a las instalaciones o visitar la colección\, deberán adquirir una entrada. \n\n\n\n\nreservar plaza
URL:https://museoautomovilmoda.com/actividad/sabados-creativos-taller-de-arquitectura-para-nins-8/
ATTACH;FMTTYPE=image/jpeg:https://museoautomovilmoda.com/wp-content/uploads/2025/12/CARTEL-MAM-ARQUITECTURA-07-03-26.jpg
END:VEVENT
BEGIN:VEVENT
DTSTART;TZID=Europe/Madrid:20260314T110000
DTEND;TZID=Europe/Madrid:20260314T140000
DTSTAMP:20260420T102525
CREATED:20251230T114220Z
LAST-MODIFIED:20251230T114222Z
UID:40387-1773486000-1773496800@museoautomovilmoda.com
SUMMARY:Sábados Creativos (Taller de Programación con Roblox)
DESCRIPTION:Todos los sábados\, los espacios expositivos y educativos del Museo del Automóvil y la Moda se convierten en punto de encuentro para los mas pequeños. ¡Cada sábado una actividad distinta! \n\n\n\nTodos los talleres de estos ‘Sábados Creativos’ están dirigidos a niños y niñas de todas las edades. Los participantes realizarán actividades relacionadas con una temática concreta: desde robótica a arquitectura\, pasando por edición de videojuegos\, cocina y arqueología. \n\n\n\nEn cada uno de los talleres se realizarán distintas actividades diseñadas específicamente para despertar la curiosidad intelectual de los pequeños y favorecer el desarrollo de su creatividad. \n\n\n\nActividades\n\n\n\nEnero:\n\n\n\n– Sábado 10: Taller de Programación con Minecraft (6-16 años) \n\n\n\n– Sábado 17: Taller de Ciencia Creativa (4-12 años) \n\n\n\n– Sábado 24: Taller de Arqueología y Egiptología (4-12 años) \n\n\n\n– Sábado 31: Taller de Arquitectura para niñ@s (4-12 años) \n\n\n\nFebrero:\n\n\n\n– Sábado 07: Taller de Programación con Roblox (6-16 años) \n\n\n\n– Sábado 14: Taller de Ciencia Creativa (4-12 años) \n\n\n\n– Sábado 21: Taller de Programación con Minecraft (6-16 años) \n\n\n\nMarzo:\n\n\n\n– Sábado 07: Taller de Arquitectura para niñ@s (4-12 años) \n\n\n\n– Sábado 14: Taller de Programación con Roblox (6-16 años) \n\n\n\n– Sábado 21: Taller de Arqueología y Egiptología (4-12 años) \n\n\n\n– Sábado 28: Taller de Robótica Educativa (6-16 años) \n\n\n\n \n\n\n\n \n\n\n\nDuración y precio\n\n\n\n3 horas – 18€ / taller \n\n\n\n \n\n\n\ncondiciones\n\n\n\n– Actividad sujeta a cancelación en caso de no cumplir con el mínimo requerido de asistentes. \n\n\n\n– El acceso al museo será 10 MINUTOS antes del inicio de la actividad \n\n\n\n– La contratación del taller solo permite el acceso a los participantes de este\, los acompañantes deberán esperar fuera del museo. Si desean acceder a las instalaciones o visitar la colección\, deberán adquirir una entrada. \n\n\n\n\nreservar plaza
URL:https://museoautomovilmoda.com/actividad/sabados-creativos-taller-de-programacion-con-roblox-13/
ATTACH;FMTTYPE=image/jpeg:https://museoautomovilmoda.com/wp-content/uploads/2025/12/CARTEL-MAM-ROBLOX-14-03-26.jpg
END:VEVENT
BEGIN:VEVENT
DTSTART;TZID=Europe/Madrid:20260321T110000
DTEND;TZID=Europe/Madrid:20260321T140000
DTSTAMP:20260420T102525
CREATED:20251230T114254Z
LAST-MODIFIED:20251230T114256Z
UID:40389-1774090800-1774101600@museoautomovilmoda.com
SUMMARY:Sábados Creativos (Taller de Arqueología y Egiptología)
DESCRIPTION:Todos los sábados\, los espacios expositivos y educativos del Museo del Automóvil y la Moda se convierten en punto de encuentro para los mas pequeños. ¡Cada sábado una actividad distinta! \n\n\n\nTodos los talleres de estos ‘Sábados Creativos’ están dirigidos a niños y niñas de todas las edades. Los participantes realizarán actividades relacionadas con una temática concreta: desde robótica a arquitectura\, pasando por edición de videojuegos\, cocina y arqueología. \n\n\n\nEn cada uno de los talleres se realizarán distintas actividades diseñadas específicamente para despertar la curiosidad intelectual de los pequeños y favorecer el desarrollo de su creatividad. \n\n\n\nActividades\n\n\n\nEnero:\n\n\n\n– Sábado 10: Taller de Programación con Minecraft (6-16 años) \n\n\n\n– Sábado 17: Taller de Ciencia Creativa (4-12 años) \n\n\n\n– Sábado 24: Taller de Arqueología y Egiptología (4-12 años) \n\n\n\n– Sábado 31: Taller de Arquitectura para niñ@s (4-12 años) \n\n\n\nFebrero:\n\n\n\n– Sábado 07: Taller de Programación con Roblox (6-16 años) \n\n\n\n– Sábado 14: Taller de Ciencia Creativa (4-12 años) \n\n\n\n– Sábado 21: Taller de Programación con Minecraft (6-16 años) \n\n\n\nMarzo:\n\n\n\n– Sábado 07: Taller de Arquitectura para niñ@s (4-12 años) \n\n\n\n– Sábado 14: Taller de Programación con Roblox (6-16 años) \n\n\n\n– Sábado 21: Taller de Arqueología y Egiptología (4-12 años) \n\n\n\n– Sábado 28: Taller de Robótica Educativa (6-16 años) \n\n\n\n \n\n\n\n \n\n\n\nDuración y precio\n\n\n\n3 horas – 18€ / taller \n\n\n\n \n\n\n\ncondiciones\n\n\n\n– Actividad sujeta a cancelación en caso de no cumplir con el mínimo requerido de asistentes. \n\n\n\n– El acceso al museo será 10 MINUTOS antes del inicio de la actividad \n\n\n\n– La contratación del taller solo permite el acceso a los participantes de este\, los acompañantes deberán esperar fuera del museo. Si desean acceder a las instalaciones o visitar la colección\, deberán adquirir una entrada. \n\n\n\n\nreservar plaza
URL:https://museoautomovilmoda.com/actividad/sabados-creativos-taller-de-arqueologia-y-egiptologia-13/
ATTACH;FMTTYPE=image/jpeg:https://museoautomovilmoda.com/wp-content/uploads/2025/12/CARTEL-MAM-EGIPTOLOGIA-21-03-26.jpg
END:VEVENT
BEGIN:VEVENT
DTSTART;TZID=Europe/Madrid:20260328T110000
DTEND;TZID=Europe/Madrid:20260328T140000
DTSTAMP:20260420T102525
CREATED:20251230T114325Z
LAST-MODIFIED:20251230T114328Z
UID:40391-1774695600-1774706400@museoautomovilmoda.com
SUMMARY:Sábados Creativos (Taller de Robótica Educativa)
DESCRIPTION:Todos los sábados\, los espacios expositivos y educativos del Museo del Automóvil y la Moda se convierten en punto de encuentro para los mas pequeños. ¡Cada sábado una actividad distinta! \n\n\n\nTodos los talleres de estos ‘Sábados Creativos’ están dirigidos a niños y niñas de todas las edades. Los participantes realizarán actividades relacionadas con una temática concreta: desde robótica a arquitectura\, pasando por edición de videojuegos\, cocina y arqueología. \n\n\n\nEn cada uno de los talleres se realizarán distintas actividades diseñadas específicamente para despertar la curiosidad intelectual de los pequeños y favorecer el desarrollo de su creatividad. \n\n\n\nActividades\n\n\n\nEnero:\n\n\n\n– Sábado 10: Taller de Programación con Minecraft (6-16 años) \n\n\n\n– Sábado 17: Taller de Ciencia Creativa (4-12 años) \n\n\n\n– Sábado 24: Taller de Arqueología y Egiptología (4-12 años) \n\n\n\n– Sábado 31: Taller de Arquitectura para niñ@s (4-12 años) \n\n\n\nFebrero:\n\n\n\n– Sábado 07: Taller de Programación con Roblox (6-16 años) \n\n\n\n– Sábado 14: Taller de Ciencia Creativa (4-12 años) \n\n\n\n– Sábado 21: Taller de Programación con Minecraft (6-16 años) \n\n\n\nMarzo:\n\n\n\n– Sábado 07: Taller de Arquitectura para niñ@s (4-12 años) \n\n\n\n– Sábado 14: Taller de Programación con Roblox (6-16 años) \n\n\n\n– Sábado 21: Taller de Arqueología y Egiptología (4-12 años) \n\n\n\n– Sábado 28: Taller de Robótica Educativa (6-16 años) \n\n\n\n \n\n\n\n \n\n\n\nDuración y precio\n\n\n\n3 horas – 18€ / taller \n\n\n\n \n\n\n\ncondiciones\n\n\n\n– Actividad sujeta a cancelación en caso de no cumplir con el mínimo requerido de asistentes. \n\n\n\n– El acceso al museo será 10 MINUTOS antes del inicio de la actividad \n\n\n\n– La contratación del taller solo permite el acceso a los participantes de este\, los acompañantes deberán esperar fuera del museo. Si desean acceder a las instalaciones o visitar la colección\, deberán adquirir una entrada. \n\n\n\n\nreservar plaza
URL:https://museoautomovilmoda.com/actividad/sabados-creativos-taller-de-robotica-educativa-6/
ATTACH;FMTTYPE=image/jpeg:https://museoautomovilmoda.com/wp-content/uploads/2025/12/CARTEL-MAM-ROBOTICA-28-03-26.jpg
END:VEVENT
END:VCALENDAR